Workbook

Sheet Anlage 4 Kostenaufstellung
A1: monatliche Bezugsgröße nach § 18 Absatz 1 SGB IV | D1: 3955 | E1: Bitte nur die gelben Felder ausfüllen! | F1: AHDMV
A2: Wert je Leistungseinheit (13 % der Bezugsgröße) | D2: =D1*0.13 -> 514.15
A4: Antrag §39a für ambulante Hospizarbeit | D4: 2026
A5: Antragsteller / Träger
E6: Name Antragsteller/Träger
E7: Straße Hausnummer
E8: PLZ Ort
A9: Ambulanter Hospizdienst
A10: (falls abweichend vom Antragsteller)
E11: Name Hospizdienst
E12: Straße Hausnummer
E13: PLZ Ort
A14: IK | C14: sofern vorhanden, bitte angeben!
A16: A | B16: Berechnungsgrößen 2025
D17: GKV | E17: PKV
B18: Abgeschlossene Begleitungen (Erwachsene) | G18: =(D18+E18)*4 -> 0
B19: davon im Pflegeheim
B20: davon im Krankenhaus
B21: Kinder-Begleitungen * | G21: =(D21+E21)*6.5 -> 0
B22: davon im Pflegeheim
B23: davon im Krankenhaus
B24: Anzahl der einsatzbereiten Ehrenamtlichen | G24: =D24*2 -> 0
B25: nachrichtl. EA, für Kinderhospizarbeit qualifiziert
B26: Anzahl der errechneten Leistungseinheiten (LE) | G26: =G18+G21+G24 -> 0
A28: * Begleitungen von Kindern/Jugendlichen nur angeben, wenn der antragstellende Dienst insgesamt die Fördervoraussetzungen für Kinderbegleitungen erfüllt (insbesondere pädiatrisch geschulte Koordinatorin und Ehrenamtliche) und die Kinder/Jugendlichen nicht im Förderantrag eines externen AKHD angegeben werden.
A32: B | B32: Förderfähige Kosten:
A34: 1. | B34: Personalkosten für Fachkräfte und Ehrenamt im Jahr 2025
A36: 1.1 | B36: Personalkosten der anerkannten Fachkräfte | E36: Bruttopersonalkosten (AG-Brutto, Vorjahr)
B37: Lohnjournale bzw Kalkulation der voraussichtlichen Kosten bei Neuanstellung oder Erweiterung des Stellenumfangs anfügen
A38: P1 | B38: Personalnummer | G38: Antragsrelevant
B39: Stellenumfang Vorjahr in VK | D39: VK-Vorjahr | G39: =E39 -> 0
B40: Bruttopersonalkosten (Vorjahr!) | F40: FALSE | G40: =IF(E42=0,SUM(E38:E40),IF(E40>E42,E40,0)) -> 0
F41: FALSE | G41: =IF(E41=0,0,IF(E40<E41,(E41-E40)*-1,0)) -> 0 | H41: =IF(F41=TRUE,"Angabe erforderlich Vorjahresantrag !!","")
B42: Kalkulierte Personalkosten (Antragsjahr!) wegen: | D42: =IF(F42+F40>0,"VK-Antragsjahr",0) -> 0 | F42: FALSE | G42: =IF(E42=0,0,IF(E42<E40,"Falsch, Betrag ist niedriger als Vorjahr",E42)) -> 0 | H42: =IF(F42+F40>0,"Kalkulation beifügen! Nur angeben, bei Erhöhung des Beschäftigungsumfangs im Vergleich zum Vorjahr!","")
A44: P2 | B44: Personalnummer | G44: Antragsrelevant
B45: Stellenumfang Vorjahr in VK | D45: VK-Vorjahr | G45: =E45 -> 0
B46: Bruttopersonalkosten (Vorjahr !) | F46: FALSE | G46: =IF(E48=0,SUM(E44:E46),IF(E46>E48,E46,0)) -> 0
F47: FALSE | G47: =IF(E47=0,0,IF(E46<E47,(E47-E46)*-1,0)) -> 0 | H47: =IF(F47=TRUE,"Angabe erforderlich Vorjahresantrag !!","")
B48: Kalkulierte Personalkosten (Antragsjahr!) wegen: | D48: =IF(F48+F46>0,"VK-Antragsjahr",0) -> 0 | F48: FALSE | G48: =IF(E48=0,0,IF(E48<E46,"Falsch, Betrag ist niedriger als Vorjahr",E48)) -> 0 | H48: =IF(F48+F46>0,"Kalkulation beifügen! Nur angeben, bei Erhöhung des Beschäftigungsumfangs im Vergleich zum Vorjahr!","")
A50: P3 | B50: Personalnummer | G50: Antragsrelevant
B51: Stellenumfang Vorjahr in VK | D51: VK-Vorjahr | G51: =E51 -> 0
B52: Bruttopersonalkosten (Vorjahr !) | F52: FALSE | G52: =IF(E54=0,SUM(E50:E52),IF(E52>E54,E52,0)) -> 0
F53: FALSE | G53: =IF(E53=0,0,IF(E52<E53,(E53-E52)*-1,0)) -> 0 | H53: =IF(F53=TRUE,"Angabe erforderlich Vorjahresantrag !!","")
B54: Kalkulierte Personalkosten (Antragsjahr!) wegen: | D54: =IF(F54+F52>0,"VK-Antragsjahr",0) -> 0 | F54: FALSE | G54: =IF(E54=0,0,IF(E54<E52,"Falsch, Betrag ist niedriger als Vorjahr",E54)) -> 0 | H54: =IF(F54+F52>0,"Kalkulation beifügen! Nur angeben, bei Erhöhung des Beschäftigungsumfangs im Vergleich zum Vorjahr!","")
A56: P4 | B56: Personalnummer | G56: Antragsrelevant
B57: Stellenumfang Vorjahr in VK | D57: VK-Vorjahr | G57: =E57 -> 0
B58: Bruttopersonalkosten (Vorjahr !) | F58: FALSE | G58: =IF(E60=0,SUM(E56:E58),IF(E58>E60,E58,0)) -> 0
F59: FALSE | G59: =IF(E59=0,0,IF(E58<E59,(E59-E58)*-1,0)) -> 0 | H59: =IF(F59=TRUE,"Angabe erforderlich Vorjahresantrag !!","")
B60: Kalkulierte Personalkosten (Antragsjahr!) wegen: | D60: =IF(F60+F58>0,"VK-Antragsjahr",0) -> 0 | F60: FALSE | G60: =IF(E60=0,0,IF(E60<E58,"Falsch, Betrag ist niedriger als Vorjahr",E60)) -> 0 | H60: =IF(F60+F58>0,"Kalkulation beifügen! Nur angeben, bei Erhöhung des Beschäftigungsumfangs im Vergleich zum Vorjahr!","")
A62: P5 | B62: Personalnummer | G62: Antragsrelevant
B63: Stellenumfang Vorjahr in VK | D63: VK-Vorjahr | G63: =E63 -> 0
B64: Bruttopersonalkosten (Vorjahr !) | F64: FALSE | G64: =IF(E66=0,SUM(E62:E64),IF(E64>E66,E64,0)) -> 0
F65: FALSE | G65: =IF(E65=0,0,IF(E64<E65,(E65-E64)*-1,0)) -> 0 | H65: =IF(F65=TRUE,"Angabe erforderlich Vorjahresantrag !!","")
B66: Kalkulierte Personalkosten (Antragsjehr!) wegen: | D66: =IF(F66+F64>0,"VK-Antragsjahr",0) -> 0 | F66: FALSE | G66: =IF(E66=0,0,IF(E66<E64,"Falsch, Betrag ist niedriger als Vorjahr",E66)) -> 0 | H66: =IF(F66+F64>0,"Kalkulation beifügen! Nur angeben, bei Erhöhung des Beschäftigungsumfangs im Vergleich zum Vorjahr!","")
A68: P1-P5 | B68: Personalnebenkosten gesamt | G68: =IF(E68=0,0,E68) -> 0
C69: Anzahl | E69: Kosten
B70: davon: Supervision Hauptamtliche | D70: nachrichtlich
B71: Fort- und Weiterbildung | D71: nachrichtlich | G71: (Anlage 6)
A73: P1-P5 | B73: nachrichtlich: Bruttopersonalkosten (Gesamt) ohne "Supervision Hauptamtliche" | G73: =SUM(G38:G71)-E70 -> 0
A75: 1.2 | B75: Vorbereitung Ehrenamtliche (EA)
B76: Honorarkosten
B77: Kosten für Übernachtung und Verpflegung
A79: 1.3 | B79: Supervision Ehrenamtliche
B81: nachrichtlich: Supervision-Gesamt (Hauptamt und Ehrenamt) | E81: =E79+E70 -> 0
A83: 1.4 | B83: Fortbildung Ehrenamtliche | E83: =IF(D24=0,0,D24*110) -> 0
A85: 1.5 | B85: förderfähige Personalkosten | E85: =SUM(G38:G71)+SUM(E76:E79)+E83 -> 0
A88: 2. | B88: Sachkosten gemäß § 5 Absatz 5 der Rahmenvereinbarung nach § 39a SGB V im Jahr 2025
A89: 2.1 | B89: Fahrkosten
B90: Erstattete Fahrkosten der Ehrenamtlichen und der Fachkräfte (eigenes Fahrzeug oder ÖPNV)
B91: Betriebskosten PKW (Kraftstoff, Reparatur, KEINE Anschaffung/Abschreibung/Leasinggebühren)
A92: 2.2 | B92: Verwaltungskosten
B93: Kosten für Personal- und Lohnbuchhaltung / Verwaltungsgemeinkosten
A94: 2.3 | B94: Sachkosten für die Räumlichkeiten des ambulanten Hospizdienstes
B95: Raum- und Raumnutzungskosten
B96: Reinigungskosten
B97: Energiekosten
B98: Büromaterial einschl. aufgabenbezogener Druckkosten
B99: Fachliteratur
B100: Büromöbel/ -technik (nur geringwertige Wirtschaftsgüter)
B101: Post- und Telkommunikationsgebühren
A102: 2.4 | B102: Sachkosten für notwendige Versicherungen
B103: Haftpflichtversicherung für Ehrenamtlichen
B104: Dienstreisekostenversicherung
B105: Inventarversicherung
B106: Sonstige Versicherungen
B107: ….
B108: ….
B109: ….
A110: 2.5 | B110: Schutzmaterialien
B111: Desinfektionsmittel
B112: Masken
B113: Schutzkleidung
B114: Sonstiges
B115: ….
B116: ….
A118: 2.6 | B118: förderfähige Sachkosten | E118: =SUM(E90:E116) -> 0
A120: 3. | B120: förderfähige Personal- und Sachkosten gesamt (= Antragssumme) | E120: =E118+E85 -> 0
A122: Es wird bestätigt, dass es sich bei den vorgenannten Kosten nachweislich um förderfähige Aufwendungen gem. Rahmenvereinbarung nach § 39a Absatz 2 Satz 7 SGB V handelt. Die Richtigkeit der Angaben wird bestätigt.
A125: Wir versichern, dass die berücksichtigten Honorarkosten ausschließlich für Leistungen entsprechend der Fördergrundsätze gemäß Rahmenvereinbarung nach § 39a Absatz 2, Satz 7 SGB V und an Personen, die nicht beim Antrag stellenden Hospizdienst angestellt sind, gezahlt wurden.
A131: Ort / Datum | E131: Unterschrift /Stempel / Funktion
...

Sheet Antragsformular
A1: Absender (Antragsteller)
A2: ='Anlage 4 Kostenaufstellung'!A6 -> 0
A3: ='Anlage 4 Kostenaufstellung'!A7 -> 0
A4: ='Anlage 4 Kostenaufstellung'!A8 -> 0
A10: Landesvertretung Mecklenburg-Vorpommern
A11: Werderstraße 74a
A12: 19055 Schwerin
A14: ='Anlage 4 Kostenaufstellung'!A4 -> Antrag §39a für ambulante Hospizarbeit | E14: ='Anlage 4 Kostenaufstellung'!D4 -> 2026
B15: =IF('Anlage 4 Kostenaufstellung'!A11:D11=0,"",'Anlage 4 Kostenaufstellung'!A11)
B16: =IF('Anlage 4 Kostenaufstellung'!A12:D12=0,"",'Anlage 4 Kostenaufstellung'!A12)
B17: =IF('Anlage 4 Kostenaufstellung'!A13:D13=0,"",'Anlage 4 Kostenaufstellung'!A13)
A18: Institutionskennzeichen (IK): | B18: ='Anlage 4 Kostenaufstellung'!B14 -> 0
A20: Sehr geehrte Damen und Herren,
A22: hiermit stellen wir für unseren ambulanten Hospizdienst einen Förderantrag nach § 39 a
A23: Abs. 2 SGB V.
A24: I. Angaben zu den Fördervoraussetzungen entsprechend der Rahmenvereinbarung nach § 39 a Abs. 2 Satz 6 SGB V Antrag stellenden Hospizdienst angestellt sind, gezahlt wurden.
A27: Die erforderlichen Angaben ergeben sich aus dem beigefügten Erhebungsbogen [1].
A29: II. Angaben zur Berechnung der Fördersumme
F30: AHD | G30: AKHD *
A31: Anzahl der am 31.12. des Vorjahres einsatzbereiten ehrenamtlichen Personen: [2] | F31: ='Anlage 4 Kostenaufstellung'!D24 -> 0 | G31: ='Anlage 4 Kostenaufstellung'!D25 -> 0
A32: Anzahl der im Vorjahr abgeschlossenen Sterbebegleitungen [3] | B32: im Haushalt oder in der Familie: | F32: ='Anlage 4 Kostenaufstellung'!D18+'Anlage 4 Kostenaufstellung'!E18-'Anlage 4 Kostenaufstellung'!D19-'Anlage 4 Kostenaufstellung'!E19-'Anlage 4 Kostenaufstellung'!D20-'Anlage 4 Kostenaufstellung'!E20 -> 0 | G32: ='Anlage 4 Kostenaufstellung'!D21+'Anlage 4 Kostenaufstellung'!E21-'Anlage 4 Kostenaufstellung'!D22-'Anlage 4 Kostenaufstellung'!E22-'Anlage 4 Kostenaufstellung'!D23-'Anlage 4 Kostenaufstellung'!E23 -> 0
B33: in Pflegeheimen: | F33: ='Anlage 4 Kostenaufstellung'!D19+'Anlage 4 Kostenaufstellung'!E19 -> 0 | G33: ='Anlage 4 Kostenaufstellung'!D22+'Anlage 4 Kostenaufstellung'!E22 -> 0
B34: im Krankenhaus: | F34: ='Anlage 4 Kostenaufstellung'!D20+'Anlage 4 Kostenaufstellung'!E20 -> 0 | G34: ='Anlage 4 Kostenaufstellung'!D23+'Anlage 4 Kostenaufstellung'!E23 -> 0
A37: Antragssumme | F37: ='Anlage 4 Kostenaufstellung'!E120 -> 0
A38: Gesamtsumme förderfähiger Aufwendungen [4]
A45: [1] Vgl. Anlage 1
A46: [2] Vgl. Anlage 2
A47: [3] Vgl. Anlage 3
A48: [4] Vgl. Anlage 4
A55: Wir bitten um Überweisung des Förderbetrages auf folgendes Konto:
A57: Kontoinhaber:
A58: Bankinstitut :
A59: IBAN:
A60: BIC:
A62: Der Antrag wurde an die nachfolgend aufgeführten Verbände der Krankenkassen gesendet.
A67: ________________ | C67: __________________________________
A68: Ort, Datum | D68: rechtsverbindliche Unterschrift
E69: des Antragstellers
A71: Anlagen:
A72: Anlage 1: Erhebungsbogen für ambulante Hospizdienste
A73: Anlage 2: Bescheinigung über Einsatzbereitschaft der ehrenamtlichen Mitarbeiter
A74: Anlage 3: Nachweis über geleistete Sterbebegleitungen | D74: (an die jeweilige Kasse zu senden nicht an den vdek)
A75: Anlage 3a: Aufstellung Sterbebegleitungen nach Kassenart
A76: Anlage 4: unterschriebene Kostenaufstellung *
A77: Anlage 5: Brutto-Personalkostennachweise
A78: Anlage 6: tabellarische Aufstellung der Fort- u. Weiterbildungskosten der Hauptamtlichen
A79: * auch als Exceldatei per E-Mail an den unten angegebenen Verteiler!!
A80: Ggf. können weitere Anlagen erforderlich sein, die hier aufgeführt werden können:
A85: Verteiler:
A86: Verband der Ersatzkassen e. V. (vdek)
A87: Landesvertretung Mecklenburg-Vorpommern
A88: Frau Hennig | B88: E-Mail: | C88: sabrina.hennig@vdek.com
A89: Werderstraße 74a
A90: 19055 Schwerin
A91: AOK Nordost – Die Gesundheitskasse
A92: Frau Krassin/ Frau Bläsche | B92: E-Mail: | C92: Anett.Krassin@NORDOST.AOK.DE
A93: 14456 Potsdam | C93: Annett.Blaesche@NORDOST.AOK.DE
A95: IKK - Die Innovationskasse
A96: Herr Vandrey | B96: E-Mail: | C96: mathias.vandrey@die-ik.de
A97: Ellerried 1
A98: 19061 Schwerin
A99: BKK-Landesverband NORDWEST
A100: Herr Meeves | B100: E-Mail: | C100: Gerd.Meeves@bkk-nordwest.de
A101: Süderstraße 24
A102: 20097 Hamburg
A104: KNAPPSCHAFT
A105: Herr Oertel | B105: E-Mail: | C105: tim.oertel@kbs.de
A107: Millerntorplatz 1
A108: 20359 Hamburg
