Workbook

Sheet Anlage 4 Kostenaufstellung
A1: monatliche Bezugsgröße nach § 18 Absatz 1 SGB IV | D1: 3955 | E1: Bitte nur die gelben Felder ausfüllen! | F1: AHDMV
A2: Wert je Leistungseinheit (13 % der Bezugsgröße) | D2: =D1*0.13 -> 514.15
A4: Antrag §39a für ambulante Hospizarbeit | D4: 2026
A5: Antragsteller / Träger
E6: Name Antragsteller/Träger
E7: Straße Hausnummer
E8: PLZ Ort
A9: Ambulanter Hospizdienst
A10: (falls abweichend vom Antragsteller)
E11: Name Hospizdienst
E12: Straße Hausnummer
E13: PLZ Ort
A14: IK | C14: sofern vorhanden, bitte angeben!
A16: A | B16: Berechnungsgrößen 2025
D17: GKV | E17: PKV
B18: Abgeschlossene Begleitungen (Erwachsene) | G18: =(D18+E18)*4 -> 0
B19: davon im Pflegeheim
B20: davon im Krankenhaus
B21: Kinder-Begleitungen * | G21: =(D21+E21)*6.5 -> 0
B22: davon im Pflegeheim
B23: davon im Krankenhaus
B24: Anzahl der einsatzbereiten Ehrenamtlichen | G24: =D24*2 -> 0
B25: nachrichtl. EA, für Kinderhospizarbeit qualifiziert
B26: Anzahl der errechneten Leistungseinheiten (LE) | G26: =G18+G21+G24 -> 0
A28: * Begleitungen von Kindern/Jugendlichen nur angeben, wenn der antragstellende Dienst insgesamt die Fördervoraussetzungen für Kinderbegleitungen erfüllt (insbesondere pädiatrisch geschulte Koordinatorin und Ehrenamtliche) und die Kinder/Jugendlichen nicht im Förderantrag eines externen AKHD angegeben werden.
A32: B | B32: Förderfähige Kosten:
A34: 1. | B34: Personalkosten für Fachkräfte und Ehrenamt im Jahr 2025
A36: 1.1 | B36: Personalkosten der anerkannten Fachkräfte | E36: Bruttopersonalkosten (AG-Brutto, Vorjahr)
B37: Lohnjournale bzw Kalkulation der voraussichtlichen Kosten bei Neuanstellung oder Erweiterung des Stellenumfangs anfügen
A38: P1 | B38: Personalnummer | G38: Antragsrelevant
B39: Stellenumfang Vorjahr in VK | D39: VK-Vorjahr | G39: =E39 -> 0
B40: Bruttopersonalkosten (Vorjahr!) | F40: FALSE | G40: =IF(E42=0,SUM(E38:E40),IF(E40>E42,E40,0)) -> 0
F41: FALSE | G41: =IF(E41=0,0,IF(E40<E41,(E41-E40)*-1,0)) -> 0 | H41: =IF(F41=TRUE,"Angabe erforderlich Vorjahresantrag !!","")
B42: Kalkulierte Personalkosten (Antragsjahr!) wegen: | D42: =IF(F42+F40>0,"VK-Antragsjahr",0) -> 0 | F42: FALSE | G42: =IF(E42=0,0,IF(E42<E40,"Falsch, Betrag ist niedriger als Vorjahr",E42)) -> 0 | H42: =IF(F42+F40>0,"Kalkulation beifügen! Nur angeben, bei Erhöhung des Beschäftigungsumfangs im Vergleich zum Vorjahr!","")
A44: P2 | B44: Personalnummer | G44: Antragsrelevant
B45: Stellenumfang Vorjahr in VK | D45: VK-Vorjahr | G45: =E45 -> 0
B46: Bruttopersonalkosten (Vorjahr !) | F46: FALSE | G46: =IF(E48=0,SUM(E44:E46),IF(E46>E48,E46,0)) -> 0
F47: FALSE | G47: =IF(E47=0,0,IF(E46<E47,(E47-E46)*-1,0)) -> 0 | H47: =IF(F47=TRUE,"Angabe erforderlich Vorjahresantrag !!","")
B48: Kalkulierte Personalkosten (Antragsjahr!) wegen: | D48: =IF(F48+F46>0,"VK-Antragsjahr",0) -> 0 | F48: FALSE | G48: =IF(E48=0,0,IF(E48<E46,"Falsch, Betrag ist niedriger als Vorjahr",E48)) -> 0 | H48: =IF(F48+F46>0,"Kalkulation beifügen! Nur angeben, bei Erhöhung des Beschäftigungsumfangs im Vergleich zum Vorjahr!","")
A50: P3 | B50: Personalnummer | G50: Antragsrelevant
...

Sheet Antragsformular
A1: Absender (Antragsteller)
A2: ='Anlage 4 Kostenaufstellung'!A6 -> 0
A3: ='Anlage 4 Kostenaufstellung'!A7 -> 0
A4: ='Anlage 4 Kostenaufstellung'!A8 -> 0
A10: Landesvertretung Mecklenburg-Vorpommern
A11: Werderstraße 74a
A12: 19055 Schwerin
A14: ='Anlage 4 Kostenaufstellung'!A4 -> Antrag §39a für ambulante Hospizarbeit | E14: ='Anlage 4 Kostenaufstellung'!D4 -> 2026
B15: =IF('Anlage 4 Kostenaufstellung'!A11:D11=0,"",'Anlage 4 Kostenaufstellung'!A11)
B16: =IF('Anlage 4 Kostenaufstellung'!A12:D12=0,"",'Anlage 4 Kostenaufstellung'!A12)
B17: =IF('Anlage 4 Kostenaufstellung'!A13:D13=0,"",'Anlage 4 Kostenaufstellung'!A13)
A18: Institutionskennzeichen (IK): | B18: ='Anlage 4 Kostenaufstellung'!B14 -> 0
A20: Sehr geehrte Damen und Herren,
A22: hiermit stellen wir für unseren ambulanten Hospizdienst einen Förderantrag nach § 39 a
A23: Abs. 2 SGB V.
A24: I. Angaben zu den Fördervoraussetzungen entsprechend der Rahmenvereinbarung nach § 39 a Abs. 2 Satz 6 SGB V Antrag stellenden Hospizdienst angestellt sind, gezahlt wurden.
A27: Die erforderlichen Angaben ergeben sich aus dem beigefügten Erhebungsbogen [1].
A29: II. Angaben zur Berechnung der Fördersumme
F30: AHD | G30: AKHD *
A31: Anzahl der am 31.12. des Vorjahres einsatzbereiten ehrenamtlichen Personen: [2] | F31: ='Anlage 4 Kostenaufstellung'!D24 -> 0 | G31: ='Anlage 4 Kostenaufstellung'!D25 -> 0
A32: Anzahl der im Vorjahr abgeschlossenen Sterbebegleitungen [3] | B32: im Haushalt oder in der Familie: | F32: ='Anlage 4 Kostenaufstellung'!D18+'Anlage 4 Kostenaufstellung'!E18-'Anlage 4 Kostenaufstellung'!D19-'Anlage 4 Kostenaufstellung'!E19-'Anlage 4 Kostenaufstellung'!D20-'Anlage 4 Kostenaufstellung'!E20 -> 0 | G32: ='Anlage 4 Kostenaufstellung'!D21+'Anlage 4 Kostenaufstellung'!E21-'Anlage 4 Kostenaufstellung'!D22-'Anlage 4 Kostenaufstellung'!E22-'Anlage 4 Kostenaufstellung'!D23-'Anlage 4 Kostenaufstellung'!E23 -> 0
B33: in Pflegeheimen: | F33: ='Anlage 4 Kostenaufstellung'!D19+'Anlage 4 Kostenaufstellung'!E19 -> 0 | G33: ='Anlage 4 Kostenaufstellung'!D22+'Anlage 4 Kostenaufstellung'!E22 -> 0
B34: im Krankenhaus: | F34: ='Anlage 4 Kostenaufstellung'!D20+'Anlage 4 Kostenaufstellung'!E20 -> 0 | G34: ='Anlage 4 Kostenaufstellung'!D23+'Anlage 4 Kostenaufstellung'!E23 -> 0
A37: Antragssumme | F37: ='Anlage 4 Kostenaufstellung'!E120 -> 0
A38: Gesamtsumme förderfähiger Aufwendungen [4]
A45: [1] Vgl. Anlage 1
A46: [2] Vgl. Anlage 2
A47: [3] Vgl. Anlage 3
A48: [4] Vgl. Anlage 4
A55: Wir bitten um Überweisung des Förderbetrages auf folgendes Konto:
A57: Kontoinhaber:
A58: Bankinstitut :
A59: IBAN:
A60: BIC:
A62: Der Antrag wurde an die nachfolgend aufgeführten Verbände der Krankenkassen gesendet.
A67: ________________ | C67: __________________________________
A68: Ort, Datum | D68: rechtsverbindliche Unterschrift
E69: des Antragstellers
A71: Anlagen:
A72: Anlage 1: Erhebungsbogen für ambulante Hospizdienste
...
