Workbook
Name divisor: Belegung!$E$20
Name eeadivisor: Gesamtkalkulation!$F$11
Name pnk: Personalaufwendungen!$I$55
Name risiko: Personalaufwendungen!$I$59

Sheet Allgemeine Angaben
A1: Aufforderung zum Abschluss einer Pflegesatzvereinbarung gemäß §§ 84, 85 SGB XI | P1: Stand: 15.05.2019 | R1: Stand: 03.07.2019 | T1: Stand: 01.08.2019 | V1: 43691
A2: Allgemeine Angaben | P2: Stand: 20.05.2019/21.05.2019 | T2: Stand: 13.08.2019 | V2: 43698
A3: =IF(D11>0,CONCATENATE(D11,", ",D15),"") | P3: Stand: 22.5.19 - Reihenfolge und Links angespasst (Personalaufwendungen….) | V3: 43699
B4: =IF(L6>0,CONCATENATE("IK"," ",L6),"") | K4: Antrag vom: | P4: Stand: 29.05.2019 Stand: 04.06.2019 | S4: 43622 | T4: 43711 | U4: 43712 | V4: 25.09.2019 dtr. Schutz im Personalaufwendungenblatt Zellen I62 und I64
A5: 43745 | L5: =IF(L4<>0,"","Antragsdatum bitte angeben") -> Antragsdatum bitte angeben | P5: dtr Stand 23.9.19 - Blatt Beförderung gelöscht | V5: 1.10.2019 dtr. Schutz im Personaaufwendungen Zelle J57
B6: Art der Einrichtung: | K6: Institutionskennzeichen: | P6: bi/Drop Down - Liste für Zelle D6 angepasst: teilstationäre Pflege und KZP entfernt aus Liste | V6: 7.10.2019 dtr. Schutz im Personalkostenaufstellung Zellen N110:N116 entfernt und Formeln gelöscht
D7: =IF(D6>0,IF(D6="teilstationäre Pflege","tst",IF(D6="Kurzzeitpflege","kzp","vst")),"") | F7: =IF(D6="4. Generation","4.","") | P7: bi/Plausifeld in Zelle E7 entfernt: =WENN(D6>0;WENN(D6="Wohnpflegeheim";"WPH";"")) | V7: 3.1.20 dtr. Blatt Versionsinfo in offizieller Version ausgeblendet
V8: 15.1.20 dtr Blatt Belegung Schreibschutz in Zellen F26-F31 entfernt
B9: Allgemeine Angaben zur Pflegeeinrichtung und zum Träger
D10: =IF(AND(D6=0,D11<>0),"bitte wählen Sie noch die Art der Einrichtung aus","") | P10: bi/Zelle A4 nicht mehr verbunden von A bis M
B11: Pflegeeinrichtung: | P11: Formel zur Abbildung IK: =WENN(L6>0;VERKETTEN("IK";" ";L6);"") von A4 in B4 übernommen
D12: Name der Einrichtung | P12: in Zelle K4+L-M4 Erfassungsfeld für Antragsdatum neu eingefügt
D14: Straße | P14: bi/in Zelle L5 = Plausifeld eingefügt, Antragsdatum = Pflichtfeld
D16: PLZ, Ort
D18: Telefon | J18: Fax
D20: E-Mail | J20: Web-Adresse
D22: Einrichtungsleitung | J22: PDL
B25: In Trägerschaft von:
D26: Name des Trägers
D28: Straße
D30: PLZ, Ort
D32: Telefon | J32: Fax
D34: E-Mail | J34: Web-Adresse
D36: Ansprechpartner/ Funktion
B38: Zugehörigkeit zu einer Vereinigung von Trägern von stationären Pflegeeinrichtungen im Land
G40: Wenn ja, welche?
B42: Hiermit erteilen wir o.g. Vereinigung Verhandlungsmandat
B44: Platzzahl der Pflegeeinrichtung entsprechend des Versorgungsvertrages:
B45: Platzzahl der angebundenen Kurzzeitpflegeeinrichtung lt. Versorgungsvertrag
B46: Pflegeeinrichtungskonzeption Stand: | L46: ist als Anlage beigefügt
B48: Vereinbarungszeitraum : | F48: von | J48: bis
H49: =IF(H48<L4,"Vereinbarungsbeginn liegt vor Antragstellung","") | P49: bi/in Zelle H49 Plausifeld eingefügt: sofern Vereinbarungsbeginn vor Antragstellung liegt => Hinweis"Vereinbarungsbeginn liegt vor Antragstellung"
B50: Parteien der Pflegesatzvereinbarung (gem. § 85 Abs. 2 SGB XI)
C52: Pflegekassen
C53: AOK PLUS | H53: Anteil in %
C54: vdek | H54: Anteil in %
C55: BKK | H55: Anteil in %
C56: IKK | H56: Anteil in %
C57: Knappschaft | H57: Anteil in %
C58: PKV | H58: Anteil in %
...

Sheet Belegung
A1: ='Allgemeine Angaben'!A1:N1 -> Aufforderung zum Abschluss einer Pflegesatzvereinbarung gemäß §§ 84, 85 SGB XI | I1: 43600 | J1: dtr 06.09.2019: Schutz von Zellen:D8, Zeilen 10, 37, 46 und Entfernen der bedingten Formatierung Zeile 10/11
A2: Belegungsdaten | I2: 43605
A3: ='Allgemeine Angaben'!A3:N3 | I3: 43607
B4: ='Allgemeine Angaben'!B4 | E4: ='Allgemeine Angaben'!K4 -> Antrag vom: | F4: ='Allgemeine Angaben'!L4 -> 0 | I4: 43620
I5: bi/ Änderungen in der Kopzeile Zeile 4 von Allgemeinen Angaben übernommen | N5: Bezüge zu Blatt Allgemeine Angaben hergestellt
B6: Art der Einrichtung: | D6: =IF('Allgemeine Angaben'!D6:G6>0,'Allgemeine Angaben'!D6:G6,"") | F6: kalkulatorischer Auslastungsgrad: | I6: bi/Hinweisfeld in Zelle G6 angepasst auf vst. PE
G7: =IF(G6=0,"",IF(G6>0,IF(AND('Allgemeine Angaben'!D7="vst",G6>95.9)=TRUE,"",IF(AND('Allgemeine Angaben'!D7="kzp",G6>89.9)=TRUE,"",IF(AND('Allgemeine Angaben'!D7="tst",G6>84.9)=TRUE,"","Auslastung nicht plausibel")))))
B8: jährliche Öffnungstage: | D8: 365 | I8: bi/ Zelle D8 = 365 Tage (Auswahlmöglichkeit gelöscht)
I9: bi/ Zelle E8 = Plausiformel Einrichtungsart zu Öffnungstagen gelöscht => stat. PE immer 365 Tage
I12: bi/Zelle G6 => grundsätzl. bei vst. 96% => bleibt aber weiter Eingabefeld => desh. auch keine Änderung des PlausiFeldes G7
B13: Belegungsdaten
C15: letzte 12 Monate | D15: Stichtag (Datum) | E15: Prognose ab:
B16: von: | E16: =IF('Allgemeine Angaben'!H48>0,'Allgemeine Angaben'!H48,"")
B17: bis: | D17: =IF(DATEDIF(D16,'Allgemeine Angaben'!L4,"m")>3,"Stichtag darf nicht mehr als 3 Monate vor Datum der Antragstellung liegen, bitte korrigieren","") | I17: bi/in ZelleD17 PlausiFeld eingefügt, sofern Stichtag mehr als 3 Monate vor Antragstellung liegt, erfolgt ein Hinweis - Antragsstellungsdatum = Datum in der Forderung
I18: bi/ZelleD17 Formel angepasst bisher: =WENN(DATEDIF(D16;'Forderung'!B74;"m")>3;"Stichtag liegt mehr als 3 Monate vor Antragstellung zurück, bitte korrigieren";"") neu: =WENN(DATEDIF(D16;'Allgemeine Angaben'!L4;"m")>3;"Stichtag liegt mehr als 3 Monate vor Antragstellung zurück, bitte korrigieren";"")
E19: Belegungstage/Jahr
E20: =IF(ISERROR('Allgemeine Angaben'!L44*G6*D8/100),"",'Allgemeine Angaben'!L44*G6*D8/100) -> 0 | I20: bi/Hinweistext analog Fr. Füge in Zelle D17 angepasst
B22: Pflegegrad | C22: Belegungstage | D22: Pflegebedürftige | E22: Pflegebedürftige | F22: Pflegebedürftige
C23: in den letzten 12 Kalendermonaten | D23: zum Stichtag | E23: prognostisch ab | F23: angebundene KZP prognostisch ab
D24: =IF(D16>0,D16,"") | E24: =IF(E16>0,E16,"") | F24: =IF('Allgemeine Angaben'!L45>0,E16,"")
B26: 1
B27: 2 | I27: bi/ Hinweisfelder zum Eintragen der Belegung in PG2 bis PG4 als Pflichtangabe für teilstationäre Pflege und KZP gelöscht/ stat. entbehrlich
B28: 3 | I28: 15.1.20 dtr Blatt Belegung Schreibschutz in Zellen F26-F31 entfernt
B29: 4
B30: 5
B32: Summe | C32: =SUM(C26:C30) -> 0 | D32: =SUM(D26:D30) -> 0 | E32: =SUM(E26:E30) -> 0 | F32: =SUM(F26:F30) -> 0
E34: =IF(E32>0,IF(E32<>'Allgemeine Angaben'!L44,"Prognose entspricht nicht Platzzahl",""),"")
B35: Belegungstage - 6 Kalendermonate rückwirkend ab Stichtag
B37: Monat/Jahr | C37: =KAT!D24 | D37: =KAT!D25 | E37: =KAT!D26 | I37: bi/Zelle C37;D37;E37 + C46;C46;E46 => Bezug zu Tab. KAT, in Tab KAT Berechnung der 6 Kalendermonate rückwirkend ab dem Stichtag
B38: Pflegegrad | C38: Belegungstage | D38: Belegungstage | E38: Belegungstage
B39: 1
B40: 2
B41: 3
B42: 4
B43: 5
B44: Summe | C44: =SUM(C39:C43) -> 0 | D44: =SUM(D39:D43) -> 0 | E44: =SUM(E39:E43) -> 0
B46: Monat/Jahr | C46: =KAT!D27 | D46: =KAT!D28 | E46: =KAT!D29
B47: Pflegegrad | C47: Belegungstage | D47: Belegungstage | E47: Belegungstage
B48: 1
B49: 2
...

Sheet Personalkostenaufstellung
A1: Personalkostenaufstellung nach Tätigkeit und Vergütungsgruppe | T1: 14.05.2019/15.05.2019 | V1: Stand: 03.07.2019 | X1: 7.10.2019 dtr. Schutz im Personalkostenaufstellung Zellen N110:N116 entfernt und Formeln gelöscht
T2: 43606 | V2: 43691 | W2: 43698
A3: Name der Einrichtung: | D3: =IF('Allgemeine Angaben'!D11=0,"",'Allgemeine Angaben'!D11) | P3: ja | T3: 43620 | W3: 25.9.19 dtr. Rahmen formatiert
A4: Ort der Einrichtung: | D4: =IF('Allgemeine Angaben'!D15=0,"",'Allgemeine Angaben'!D15)
A5: Institutionskennzeichen: | D5: =IF('Allgemeine Angaben'!L6=0,"",'Allgemeine Angaben'!L6) | J5: ='Allgemeine Angaben'!K4 -> Antrag vom: | K5: ='Allgemeine Angaben'!L4 -> 0 | T5: für Ist + Prognosezeitraum = zieht es den Namen, den Ort und das IK der Einrichtung aus den allgemeinen Angaben
A6: Angaben für den Prognosezeitraum | T6: Überschrift der PKL erneut in Zelle F1 eingefügt, da Ist Angaben erst nach Aufforderung dr. KT übermittelt werden lt. RVT
C8: Tarifbindung: | T8: alle VK-Anteile mit 3 Stellen nach dem Komma und alle Prozentangaben und € Werte mit 2 Stellen nach dem Komma
C9: Welche/r Tarif/AVR?
C10: Fassung vom: | P10: nein | T10: bi/ in Zelle N5+O5 Antrag vom: Datum eingefügt
T11: bi/ Zellen A6 bis E6 verbunden und Test eingefügt "Die Spalten A bis E legt die Einrichtung im Rahmen der Plausibilitätsprüfung auf Anforderung ohne substantirte Begrüdnung vor (§ 32 Abs. 3 Rahmenvertrag)'"
C12: Arbeitgeberanteile zur Sozialversicherung: | I12: % | J12: Folgenden Personalkostensteigerungen wurden in die Prognose eingearbeitet: | T12: bi/ Spalte zwischen Stufe und Grundgehalt je Stellenanteil eingefügt => neue Spalte Grundlohn/-gehalt in € je VK
C13: Beiträge zur Altersvorsorge: | I13: % | J13: Steigerung ab: | R13: PDL | S13: PHK | T13: bi/ in Spalte Grundlohn/-gehalt je Stellenanteil/Monat = Formel eingefügt =Wennfehler(VK-Anteil mal Grundgehalt je VK;"")
J14: Prozent: | R14: stellv. PDL | S14: Präsenzkraft (4.Generation)
B15: Sozialversicherungsbeitrag "geringfügig Beschäftigte" | I15: % | R15: WBL
R16: QM | T16: bi/ Angaben zur prozentualen Entwicklung der Gehälter je FktBereich entbehrlich mit Löschung der Spalten A-E - Ist.Pkosten N-O122;225,246,275,298,331,377,364
A17: Pseudonym Nummer (bei geringfügig Beschäftigten bitte GfB eingeben) | B17: Stellenanteil VK | C17: Entgelt-gruppe | D17: Stufe | E17: Grundlohn/-gehalt in € je VK/Monat | F17: Monatliche Zahlungen (AN-Brutto) in € je Stellenanteil | L17: Einmalzahlungen in € je Stellenanteil | N17: durchschnitt-liche Arbeitgeber-bruttopersonalkosten (inkl. SV-AG) in € je Stellenanteil | O17: durchschnitt-liche Gesamt-bruttopersonalkosten in € je VK | R17: PFK | T17: bi/Spalte A- E = Inhalte zu Ist-Pkosten entfernt siehe Abstimmung AG VM und VH-RVT
F18: Grundlohn/-gehalt | G18: Besitzstand | H18: bAV, sonstige betriebl. Zulagen | I18: Kinderzulagen/Sozialzuschläge | J18: SV-pflichtige Zuschläge/ Zulagen | K18: SV-freie Zuschläge/ Zulagen | L18: Urlaubsgeld | M18: Jahressonder- zahlung/ Weihnachts- geld | T18: bi/Spaltenbreiten angepasst
D19: Im "Registerblatt Start" auf Einfügen oder Löschen klicken (Gruppe Zellen) | R19: Leiter
A20: 1.1. Pflegefachkräfte | H20: =IF($H$13>0,"Beiträge zur Altersvorsorge NICHT in Spalte bAV, betriebliche Zulagen erfassen","") | R20: Präsenzkraft (4.Generation)
F21: =IFERROR(E21*B21,"") -> 0 | N21: =IFERROR(IF(A21<>"GfB",(SUM(F21:J21)*12+(L21+M21))*(100+$H$12+$H$13)%+(K21*12),(SUM(F21:J21)*12+(L21+M21))*(100+$H$15+$H$13)%+(K21*12)),0) -> 0 | O21: =IF(ISERROR(N21/B21),0,(N21/B21)) -> 0 | R21: Koch | T21: bi/in Spalte B = Erfassung der VK-Stellen => Erfassungshinweis für VK Stellen mit 3 Nachkommastellen hinterlegt
F22: =IFERROR(E22*B22,"") -> 0 | N22: =IFERROR(IF(A22<>"GfB",(SUM(F22:J22)*12+(L22+M22))*(100+$H$12+$H$13)%+(K22*12),(SUM(F22:J22)*12+(L22+M22))*(100+$H$15+$H$13)%+(K22*12)),0) -> 0 | O22: =IF(ISERROR(N22/B22),0,(N22/B22)) -> 0 | T22: Zeilen für alle Funktionsbereiche eingefügt
F23: =IFERROR(E23*B23,"") -> 0 | N23: =IFERROR(IF(A23<>"GfB",(SUM(F23:J23)*12+(L23+M23))*(100+$H$12+$H$13)%+(K23*12),(SUM(F23:J23)*12+(L23+M23))*(100+$H$15+$H$13)%+(K23*12)),0) -> 0 | O23: =IF(ISERROR(N23/B23),0,(N23/B23)) -> 0
F24: =IFERROR(E24*B24,"") -> 0 | N24: =IFERROR(IF(A24<>"GfB",(SUM(F24:J24)*12+(L24+M24))*(100+$H$12+$H$13)%+(K24*12),(SUM(F24:J24)*12+(L24+M24))*(100+$H$15+$H$13)%+(K24*12)),0) -> 0 | O24: =IF(ISERROR(N24/B24),0,(N24/B24)) -> 0
F25: =IFERROR(E25*B25,"") -> 0 | N25: =IFERROR(IF(A25<>"GfB",(SUM(F25:J25)*12+(L25+M25))*(100+$H$12+$H$13)%+(K25*12),(SUM(F25:J25)*12+(L25+M25))*(100+$H$15+$H$13)%+(K25*12)),0) -> 0 | O25: =IF(ISERROR(N25/B25),0,(N25/B25)) -> 0 | T25: sobald der LE % in L13 zur Altersversorgung angibt, erfolgt ein Hinweis zur Erfassung der Kosten in der Spalte bAV, sonstige Zulagen
F26: =IFERROR(E26*B26,"") -> 0 | N26: =IFERROR(IF(A26<>"GfB",(SUM(F26:J26)*12+(L26+M26))*(100+$H$12+$H$13)%+(K26*12),(SUM(F26:J26)*12+(L26+M26))*(100+$H$15+$H$13)%+(K26*12)),0) -> 0 | O26: =IF(ISERROR(N26/B26),0,(N26/B26)) -> 0 | T26: Hinweis in Zelle L121, L224;L245;L274;L297;L330;L363;L376;L387 eingefügt
F27: =IFERROR(E27*B27,"") -> 0 | N27: =IFERROR(IF(A27<>"GfB",(SUM(F27:J27)*12+(L27+M27))*(100+$H$12+$H$13)%+(K27*12),(SUM(F27:J27)*12+(L27+M27))*(100+$H$15+$H$13)%+(K27*12)),0) -> 0 | O27: =IF(ISERROR(N27/B27),0,(N27/B27)) -> 0
F28: =IFERROR(E28*B28,"") -> 0 | N28: =IFERROR(IF(A28<>"GfB",(SUM(F28:J28)*12+(L28+M28))*(100+$H$12+$H$13)%+(K28*12),(SUM(F28:J28)*12+(L28+M28))*(100+$H$15+$H$13)%+(K28*12)),0) -> 0 | O28: =IF(ISERROR(N28/B28),0,(N28/B28)) -> 0 | T28: bi/Spalte Entgeltgruppe und Stufe = Format Zahl ohne Nachkommastellen
F29: =IFERROR(E29*B29,"") -> 0 | N29: =IFERROR(IF(A29<>"GfB",(SUM(F29:J29)*12+(L29+M29))*(100+$H$12+$H$13)%+(K29*12),(SUM(F29:J29)*12+(L29+M29))*(100+$H$15+$H$13)%+(K29*12)),0) -> 0 | O29: =IF(ISERROR(N29/B29),0,(N29/B29)) -> 0
F30: =IFERROR(E30*B30,"") -> 0 | N30: =IFERROR(IF(A30<>"GfB",(SUM(F30:J30)*12+(L30+M30))*(100+$H$12+$H$13)%+(K30*12),(SUM(F30:J30)*12+(L30+M30))*(100+$H$15+$H$13)%+(K30*12)),0) -> 0 | O30: =IF(ISERROR(N30/B30),0,(N30/B30)) -> 0
F31: =IFERROR(E31*B31,"") -> 0 | N31: =IFERROR(IF(A31<>"GfB",(SUM(F31:J31)*12+(L31+M31))*(100+$H$12+$H$13)%+(K31*12),(SUM(F31:J31)*12+(L31+M31))*(100+$H$15+$H$13)%+(K31*12)),0) -> 0 | O31: =IF(ISERROR(N31/B31),0,(N31/B31)) -> 0
F32: =IFERROR(E32*B32,"") -> 0 | N32: =IFERROR(IF(A32<>"GfB",(SUM(F32:J32)*12+(L32+M32))*(100+$H$12+$H$13)%+(K32*12),(SUM(F32:J32)*12+(L32+M32))*(100+$H$15+$H$13)%+(K32*12)),0) -> 0 | O32: =IF(ISERROR(N32/B32),0,(N32/B32)) -> 0
F33: =IFERROR(E33*B33,"") -> 0 | N33: =IFERROR(IF(A33<>"GfB",(SUM(F33:J33)*12+(L33+M33))*(100+$H$12+$H$13)%+(K33*12),(SUM(F33:J33)*12+(L33+M33))*(100+$H$15+$H$13)%+(K33*12)),0) -> 0 | O33: =IF(ISERROR(N33/B33),0,(N33/B33)) -> 0
F34: =IFERROR(E34*B34,"") -> 0 | N34: =IFERROR(IF(A34<>"GfB",(SUM(F34:J34)*12+(L34+M34))*(100+$H$12+$H$13)%+(K34*12),(SUM(F34:J34)*12+(L34+M34))*(100+$H$15+$H$13)%+(K34*12)),0) -> 0 | O34: =IF(ISERROR(N34/B34),0,(N34/B34)) -> 0
F35: =IFERROR(E35*B35,"") -> 0 | N35: =IFERROR(IF(A35<>"GfB",(SUM(F35:J35)*12+(L35+M35))*(100+$H$12+$H$13)%+(K35*12),(SUM(F35:J35)*12+(L35+M35))*(100+$H$15+$H$13)%+(K35*12)),0) -> 0 | O35: =IF(ISERROR(N35/B35),0,(N35/B35)) -> 0
F36: =IFERROR(E36*B36,"") -> 0 | N36: =IFERROR(IF(A36<>"GfB",(SUM(F36:J36)*12+(L36+M36))*(100+$H$12+$H$13)%+(K36*12),(SUM(F36:J36)*12+(L36+M36))*(100+$H$15+$H$13)%+(K36*12)),0) -> 0 | O36: =IF(ISERROR(N36/B36),0,(N36/B36)) -> 0
F37: =IFERROR(E37*B37,"") -> 0 | N37: =IFERROR(IF(A37<>"GfB",(SUM(F37:J37)*12+(L37+M37))*(100+$H$12+$H$13)%+(K37*12),(SUM(F37:J37)*12+(L37+M37))*(100+$H$15+$H$13)%+(K37*12)),0) -> 0 | O37: =IF(ISERROR(N37/B37),0,(N37/B37)) -> 0
F38: =IFERROR(E38*B38,"") -> 0 | N38: =IFERROR(IF(A38<>"GfB",(SUM(F38:J38)*12+(L38+M38))*(100+$H$12+$H$13)%+(K38*12),(SUM(F38:J38)*12+(L38+M38))*(100+$H$15+$H$13)%+(K38*12)),0) -> 0 | O38: =IF(ISERROR(N38/B38),0,(N38/B38)) -> 0
F39: =IFERROR(E39*B39,"") -> 0 | N39: =IFERROR(IF(A39<>"GfB",(SUM(F39:J39)*12+(L39+M39))*(100+$H$12+$H$13)%+(K39*12),(SUM(F39:J39)*12+(L39+M39))*(100+$H$15+$H$13)%+(K39*12)),0) -> 0 | O39: =IF(ISERROR(N39/B39),0,(N39/B39)) -> 0
F40: =IFERROR(E40*B40,"") -> 0 | N40: =IFERROR(IF(A40<>"GfB",(SUM(F40:J40)*12+(L40+M40))*(100+$H$12+$H$13)%+(K40*12),(SUM(F40:J40)*12+(L40+M40))*(100+$H$15+$H$13)%+(K40*12)),0) -> 0 | O40: =IF(ISERROR(N40/B40),0,(N40/B40)) -> 0
... F70: =IFERROR(E70*B70,"") -> 0 | N70: =IFERROR(IF(A70<>"GfB",(SUM(F70:J70)*12+(L70+M70))*(100+$H$12+$H$13)%+(K70*12),(SUM(F70:J70)*12+(L70+M70))*(100+$H$15+$H$13)%+(K70*12)),0) -> 0 | O70: =IF(ISERROR(N70/B70),0,(N70/B70)) -> 0
...

Sheet Personalaufwendungen
A1: ='Allgemeine Angaben'!A1:N1 -> Aufforderung zum Abschluss einer Pflegesatzvereinbarung gemäß §§ 84, 85 SGB XI | L1: 14.05.2019/15.05.2019 | M1: dtr 06.09.2019: Schutz von Zellen: I 11+14+26+29+34+39+41+43+62+64, Zeilen 15,45 bedingte Formatierung Zeile 15 entfernt
A2: Personalstruktur der Einrichtung | L2: 43605 | M2: dtr 06.09.2019: J57 gelb als Eingabezelle
A3: ='Allgemeine Angaben'!A3:N3 | M3: dtr 25.9.19: I62 und I64 geschützt
A4: ='Allgemeine Angaben'!A4:N4 -> 0 | C4: ='Allgemeine Angaben'!B4 | I4: ='Allgemeine Angaben'!K4 -> Antrag vom: | J4: ='Allgemeine Angaben'!L4 -> 0 | L4: 04.06.2019/ 06.06.2019/14.08.2019/03.09.2019/04.09.2019 | M4: 1.10.2019 dtr. Schutz im Personaaufwendungen Zelle J57
G6: Vollkräfte | H6: Vollkräfte | I6: durchschnittliche Bruttopersonal-kosten | J6: Gesamtpersonal-kosten | L6: bi/Kopfzeile in Zelle 4 von Allgemeinen Angaben übernommen - Bezüge hergestellt
G7: Gesamt | H7: Gesamt | I7: (ohne Personalnebenkosten, Zuschlag nach § 32 Abs. 4 Rahmenvertrag) | J7: (inkl. Personalneben-kosten, Unternehmer-risiko) | L7: bi/Zelle I7 bisher (ohne PNK, UR) -> neu ohne PNK, Zuschlag nach § 32 Abs. 4 RVT
G8: =IF(Belegung!D16>0,Belegung!D16,"") | I8: € / Jahr / je VK
G9: (Stichtag) | H9: (Prognose) | I9: (Prognose) | J9: (Prognose)
B10: 1. | C10: Pflege inklusive QM, PDL/ stellvertretende PDL
C11: Pflegefachkräfte | I11: =Personalkostenaufstellung!O121 -> 0
D12: PDL/ stellvertretende PDL | L12: 14.05.2019 bisher Pflegedienstleitung => neue Bezeichnung "PDL/ stellvertretende PDL"
D13: Pflegefachkräfte | L13: bi/Zelle C10 = bisher "Pflege inklusive QM", neu: "Pflege inklsuive QM, PDL/ stellvertretende PDL"
C14: Pflegehilfskräfte | E14: =IF('Allgemeine Angaben'!$F$7="4.","/Präsenzkräfte (4. Generation)","") | I14: =Personalkostenaufstellung!O224 -> 0
D17: Gesamt Pflege | G17: =SUM(G12:G13,G14:G15) -> 0 | H17: =SUM(H12:H13,H14:H15) -> 0 | I17: =IF(H17=0,"",(((H14*I14)+((H13+H12)*I11)))/H17) | J17: =IFERROR((H17*I17)*(1+pnk+I57)*(1+risiko),"") | L17: alle drchn. Bruttopersonalkosten €/Jahr/VK je Funktionsbereich werden aus der Personalkostenaufstellung (Prognose €/VK und Fktbereich) gezogen
F19: Fachkraftquote | G19: =IF(G17=0,"",SUM(G12,G13:G13)/G17) | H19: =IF(H17=0,"",SUM(H12,H13:H13)/H17) | L19: für die sonstigen Mitarbeiter werden die Kosten €/Stelle und die Anzahl der Stellen aus der Personalkostenaufstellung (Prognose) gezogen
H20: =IF(H17<>Personalkostenaufstellung!B227,"VK-Prognose entspricht nicht dem VK-Umfang in der Mappe Personalkostenaufstellung","")
B21: 2. | C21: Betreuung
C22: Fachkräfte | L22: ACHTUNG bedingte Formatierungen in Zelle G15,H15+I15 sowie Zelle I14 funktionieren nicht! - somit Wegfall der Felder Präsenskräfte G15,H15+I15=> in Zelle E14 wird dafür bei 4. Generationen zusätzlich neben den Pflegehilfskräften "/Präsenzkräfte (4.Generation) angezeigt
C23: Sonstige Mitarbeiter* | L23: bi/PlausiHinweis in J15 entfernt =WENN(UND('Allgemeine Angaben'!F7<>"4.";I15>0);"Eintragung nur bei Einrichtungen der 4. Generation!";"")
C24: Präsenzkräfte (4. Generation) | I24: =IF(AND('Allgemeine Angaben'!F7<>"4.",H24>0),"Eintragung nur bei Einrichtungen der 4. Generation!","") | L24: bi/neu Berechnung der Personalkosten Pflege dr. Wegfall der formatierten Zellen für die Präsenzkräfte ZelleG15,H15+I15 notwendig: Formel bisher: =WENN(H17=0;"";(((H14*I14)+((H13+H12)*I11))+(H15*I15))/H17) Formel neu:=WENN(H17=0;"";(((H14*I14)+((H13+H12)*I11))+(H15*I15))/H17)
D26: Gesamt Betreuung | G26: =SUM(G22:G24) -> 0 | H26: =SUM(H22:H24) -> 0 | I26: =Personalkostenaufstellung!O245 -> 0 | J26: =IFERROR((H26*I26)*(1+pnk+I57)*(1+risiko),"")
H27: =IF(H26<>Personalkostenaufstellung!B245,"VK-Prognose entspricht nicht dem VK-Umfang in der Mappe Personalkostenaufstellung","") | L27: bi/in allen Erfassungsfeldern für die VK bei Daten => Datenüberprüfung => eine benutzerdefinierte Eingaberegel hinterlegt - Erfassung begranzt auf 3 Nachkommastellen
B28: 3. | C28: Zusätzliche Betreuung und Aktivierung | L28: bi/PlausiAbgleich zwischen den VKProgn. in Tab Personalaufwendungen und in der PKL je Funktionsbereich eingefügt, sofern VKFord <> mit PKL Angabe erfolgt ein Hinweis je Funktionsbereich
C29: nach § 43b SGB XI | I29: =Personalkostenaufstellung!O274 -> 0 | J29: =IFERROR((H29*I29)*(1+pnk+I57)*(1+risiko),"") | L29: => Pflege Zelle H20: =WENN(H17<>Personalkostenaufstellung!B227;"VK-Prognose entspricht nicht dem VK-Umfang in der Mappe Personalkostenaufstellung";"")
H30: =IF(H29=0,"",IF(H29<>Forderung!L26,"entspricht nicht 1:20!","")) | L30: => Betreuung Zelle H27: =WENN(H26<>Personalkostenaufstellung!B245;"VK-Prognose entspricht nicht dem VK-Umfang in der Mappe Personalkostenaufstellung";"")
B31: 4. | C31: Leitung / Verwaltung | H31: =IF(H29<>Personalkostenaufstellung!B274,"VK-Prognose entspricht nicht dem VK-Umfang in der Mappe Personalkostenaufstellung","") | L31: => 43 b Zelle H31: =WENN(H29<>Personalkostenaufstellung!B274;"VK-Prognose entspricht nicht dem VK-Umfang in der Mappe Personalkostenaufstellung";"")
C32: Einrichtungsleitung | L32: =>LuV Zelle H35: =WENN(H34<>Personalkostenaufstellung!B297;"VK-Prognose entspricht nicht dem VK-Umfang in der Mappe Personalkostenaufstellung";"")
C33: Verwaltungskräfte | L33: => HW ZelleH40: =WENN(H39<>Personalkostenaufstellung!B330;"VK-Prognose entspricht nicht dem VK-Umfang in der Mappe Personalkostenaufstellung";"")
D34: Gesamt Leitung / Verwaltung | G34: =SUM(G32:G33) -> 0 | H34: =SUM(H32:H33) -> 0 | I34: =Personalkostenaufstellung!O297 -> 0 | J34: =IFERROR((H34*I34)*(1+pnk+I57)*(1+risiko),"") | L34: => Küche Zelle H42: =WENN(H41<>Personalkostenaufstellung!B363;"VK-Prognose entspricht nicht dem VK-Umfang in der Mappe Personalkostenaufstellung";"")
H35: =IF(H34<>Personalkostenaufstellung!B297,"VK-Prognose entspricht nicht dem VK-Umfang in der Mappe Personalkostenaufstellung","") | L35: => HAT Zelle H44: =WENN(H43<>Personalkostenaufstellung!B376;"VK-Prognose entspricht nicht dem VK-Umfang in der Mappe Personalkostenaufstellung";"")
B36: 5. | C36: Hauswirtschaft | L36: => Freiwillige Dienste Zelle H61: =WENN(H60<>Personalkostenaufstellung!L380;"Stellenprognose entspricht nicht dem Stellenumfang in der Mappe Personalkostenaufstellung";"")
C37: Wäscherei / Reinigung / Sonstiges | L37: => FSJ Zelle H63: =WENN(H62<>Personalkostenaufstellung!L381;"Stellenprognose entspricht nicht dem Stellenumfang in der Mappe Personalkostenaufstellung";"")
C38: Präsenzkräfte (4. Generation) | L38: bi/ in Zeile 61 Spaltenhöhe auf 13,5 erhöht
D39: Gesamt Hauswirtschaft | G39: =SUM(G37:G38) -> 0 | H39: =SUM(H37:H38) -> 0 | I39: =Personalkostenaufstellung!O330 -> 0 | J39: =IFERROR((H39*I39)*(1+pnk+I57)*(1+risiko),"") | L39: bi/ Begrenzung für Erfassung der VK Stellen auf maximal 3 Nachkommastellen funktioniert nicht zu 100% (excel-Problem - Anfrage bei KubusIT-> Vorschlag nicht so akzeptabel), deshalb Datenüberprüfung nur mit Eingabehinweis versehen und Formel für bedingte Eingabe entfernt
H40: =IF(H39<>Personalkostenaufstellung!B330,"VK-Prognose entspricht nicht dem VK-Umfang in der Mappe Personalkostenaufstellung","")
B41: 6. | C41: Küche | I41: =Personalkostenaufstellung!O363 -> 0 | J41: =IFERROR((H41*I41)*(1+pnk+I57)*(1+risiko),"")
H42: =IF(H41<>Personalkostenaufstellung!B363,"VK-Prognose entspricht nicht dem VK-Umfang in der Mappe Personalkostenaufstellung","")
B43: 7. | C43: Haustechnik | I43: =Personalkostenaufstellung!O376 -> 0 | J43: =IFERROR((H43*I43)*(1+pnk+I57)*(1+risiko),"")
H44: =IF(H43<>Personalkostenaufstellung!B376,"VK-Prognose entspricht nicht dem VK-Umfang in der Mappe Personalkostenaufstellung","")
L45: bi/Inhalte aus Zeile 45 entfernt (Angaben zu Mitarbeiter Beförderung - teilstationäre Pflege)
...

Sheet Sachaufwendungen
A1: ='Allgemeine Angaben'!A1:N1 -> Aufforderung zum Abschluss einer Pflegesatzvereinbarung gemäß §§ 84, 85 SGB XI | Q1: 43600
A2: Sachkosten - Fremdleistungen/Leistungen des Trägers für die Pflegeeinrichtung | Q2: 43620
A3: ='Allgemeine Angaben'!A3:N3
B4: ='Allgemeine Angaben'!B4 | J4: ='Allgemeine Angaben'!K4 -> Antrag vom: | L4: ='Allgemeine Angaben'!L4:M4 -> 0
C6: Fremdleistungen | I6: Leistungen des Trägers | Q6: bi/Kopfzeile in Zelle 4 von Allgemeinen Angaben übernommen - Bezüge hergestellt
D8: vollständig - anteilig | J8: vollständig - anteilig
E10: =B52 -> 3.1 | F10: Küche
E12: =B53 -> 3.2 | F12: =C53 -> Wäscherei
E14: =B54 -> 3.3 | F14: =C54 -> Wäschekennzeichnung | Q14: bi/in Zelle E10/E12/E14/E16/E20/E22/E24 Nummerierung aus Zellen B52 bis B59 übernommen, Bezüge hergestellt
E16: =B55 -> 3.4 | F16: =C55 -> Reinigung | Q16: bi/neue Zeile eingefügt in E24 damit Platz für Wäschekennzeichnung - Zelle F22 mit C58 und F24 mit C59 verbunden
E18: =B56 -> 3.5 | F18: =C56 -> Verwaltung
E20: =B57 -> 3.6 | F20: =C57 -> Haustechnik
E22: =B58 -> 3.7
E24: =B59 -> 3.8
B26: Sachkosten
G28: Aufwendungen | M28: € / Tag | O28: Erläuterung s. Anlage
G29: des letzten abgeschl. | J29: Prognose | L29: Prognose
G30: Kalenderjahres | L30: (inkl. Zuschlag nach § 32 Abs. 4 Rahmenvertrag) | Q30: bi/Zelle L29 bisher (inkl. Risiko/Wagnis) => Bezeichnung neu "inkl. Zuschlag nach § 32 Abs. 4 Rahmenvertrag"
G31: € | J31: € | L31: €
B33: 2.1 | C33: Lebensmittel | L33: =IFERROR(J33*(1+J63),"") -> 0 | M33: =IFERROR(L33/divisor,"")
B34: 2.2 | C34: Pflegerischer Bedarf | L34: =IFERROR(J34*(1+J63),"") -> 0 | M34: =IFERROR(L34/divisor,"")
B35: 2.3 | C35: Wasser, Energie, Brennstoffe | L35: =IFERROR(J35*(1+J63),"") -> 0 | M35: =IFERROR(L35/divisor,"")
B36: 2.4 | C36: Verwaltungsbedarf | L36: =IFERROR(J36*(1+J63),"") -> 0 | M36: =IFERROR(L36/divisor,"")
B37: 2.5 | C37: Zentrale Verwaltungsdienste | L37: =IFERROR(J37*(1+J63),"") -> 0 | M37: =IFERROR(L37/divisor,"")
B38: 2.6 | C38: Betreuungsaufwand | L38: =IFERROR(J38*(1+J63),"") -> 0 | M38: =IFERROR(L38/divisor,"")
B39: 2.7 | C39: Wirtschaftsbedarf | L39: =IFERROR(J39*(1+J63),"") -> 0 | M39: =IFERROR(L39/divisor,"")
B40: 2.8 | C40: Steuern/Abgaben/Versicherungen | L40: =IFERROR(J40*(1+J63),"") -> 0 | M40: =IFERROR(L40/divisor,"")
B41: 2.9 | C41: Wartung (keine Instandhaltung) | L41: =IFERROR(J41*(1+J63),"") -> 0 | M41: =IFERROR(L41/divisor,"")
B42: 2.10 | C42: sonstige Aufwendungen | L42: =IFERROR(J42*(1+J63),"") -> 0 | M42: =IFERROR(L42/divisor,"")
C43: Gesamtsumme | G43: =SUM(G33:H35,G36:H40,G41:H42) -> 0 | J43: =SUM(J33:J35,J36:J40,J41:J42) -> 0 | L43: =SUM(L33:L35,L36:L40,L41:L42) -> 0 | M43: =IFERROR(L43/divisor,"")
B45: Fremdleistungen / Leistungen des Trägers
G47: Aufwand des | M47: € / Tag | O47: Erläuterung s. Anlage
G48: letzten abgeschl. | J48: Prognose | L48: Prognose
G49: Kalenderjahres | L49: (inkl. Zuschlag nach § 32 Abs. 4 Rahmenvertrag) | Q49: bi/Zelle L48 bisher (inkl. Risiko/Wagnis) => Bezeichnung neu "inkl. Zuschlag nach § 32 Abs. 4 Rahmenvertrag"
G50: € | J50: € | L50: € | M50: € / Tag
B52: 3.1 | C52: Küche (ohne Pkt. 2.1) | L52: =IFERROR(J52*(1+J63),"") -> 0 | M52: =IFERROR(L52/divisor,"")
B53: 3.2 | C53: Wäscherei | L53: =IFERROR(J53*(1+J63),"") -> 0 | M53: =IFERROR(L53/divisor,"")
B54: 3.3 | C54: Wäschekennzeichnung | L54: =IFERROR(J54*(1+J63),"") -> 0 | M54: =IFERROR(L54/divisor,"") | Q54: bi/unter Pkt 3.3 neu Wäschekennzeichnung aufgenommen
B55: 3.4 | C55: Reinigung | L55: =IFERROR(J55*(1+J63),"") -> 0 | M55: =IFERROR(L55/divisor,"") | Q55: Wäschekennzeichnung soll sich automatisch errechnen => WV für Formel in ZelleJ53
B56: 3.5 | C56: Verwaltung | L56: =IFERROR(J56*(1+J63),"") -> 0 | M56: =IFERROR(L56/divisor,"")
...

Sheet Forderung
A1: ='Allgemeine Angaben'!A1:N1 -> Aufforderung zum Abschluss einer Pflegesatzvereinbarung gemäß §§ 84, 85 SGB XI | N1: AUSBLENDEN und SPERREN
A2: Forderungen des Trägers der Pflegeeinrichtung | N2: 14.05.2019/15.05.2019 | P2: 43606 | Q2: 43620 | S2: 43622 | T2: 43691 | V2: 23.09.2019 dtr: Beförderung aus Zeile 55/56 und bedingte Formatierung gelöscht
A3: ='Allgemeine Angaben'!A3:N3 | N3: bi/Zeile 18 + 23 neu eingefügt | Q3: bi/Zellen 10/12/14/16 = Zellenhöhe =12,75
B4: ='Allgemeine Angaben'!B4 | I4: ='Allgemeine Angaben'!K4 -> Antrag vom: | K4: ='Allgemeine Angaben'!L4 -> 0 | N4: bi/ in Tab. Q18-V20 => RVT BB + Orientierungswerte für vst. hinterlegt (Äquivalenzwerte nach Rothgang für vst. gelöscht)
N5: bi/Formeln in Q42 bis Q46 wg. Nutzung der Orientierungswerte für Berechnung (direkter Dreisatz) angepasst
B6: 1. Personelle Ausstattung der Pflegeeinrichtung: | H6: Personalrelation | L6: check | N6: bi/PlausiHinweis - "das geforderte PR außerhalb des RVT liegt" in B10/B12/B14/16+B18 + B22 eingefügt
O7: 0 trifft zu | Q7: bi/ B12 neue Bezeichnung: "Pflege inkl. QM (ohne PDL/stellvertretende PDL) bisherige Bezeichnung: Pflege (inkl. PDL und QM)
B9: Pflege inkl. QM (ohne PDL/stellv. PDL) | F9: Pflegegrad 1 | H9: 1 | I9: : | K9: =IF(L9="","","1:") -> 1: | L9: =IF(O9="x",T43,"") -> FALSE | N9: 1 | O9: =IF(OR(Belegung!E26=0,Belegung!E26=""),"x","") -> x | Q9: bi/Tabellen mit Äquivalenzen nach Rothgang für KZP/TP entfernt
B10: =IF(J9="","",IF(J9<R18,"geforderte PR für Pflegegrad 1 liegt außerhalb der Rahmenvertragsempfehlung, bitte begründen",IF(J9>R19,"geforderte PR für Pflegegrad 1 liegt außerhalb der Rahmenvertragsempfehlung, bitte begründen",""))) | K10: =IF(L10="","","1:")
F11: Pflegegrad 2 | H11: 1 | I11: : | K11: =IF(L11="","","1:") -> 1: | L11: =IF(O11="x",T44,"") -> FALSE | N11: 2 | O11: =IF(OR(Belegung!E27=0,Belegung!E27=""),"x","") -> x | Q11: bi/Beschriftung Zelle L6 bisher Empfehlung => geändert in "check"
B12: =IF(J11="","",IF(J11<S18,"geforderte PR für Pflegegrad 2 liegt außerhalb der Rahmenvertragsempfehlung, bitte begründen",IF(J11>S19,"geforderte PR für Pflegegrad 2 liegt außerhalb der Rahmenvertragsempfehlung, bitte begründen",""))) | K12: =IF(L12="","","1:") | Q12: bi/ Plausifeld B20 angepasst das "RVT Vorgabe = Muss" bei PDL
F13: Pflegegrad 3 | H13: 1 | I13: : | K13: =IF(L13="","","1:") -> 1: | L13: =IF(O13="x",T45,"") -> FALSE | N13: 3 | O13: =IF(OR(Belegung!E28=0,Belegung!E28=""),"x","") -> x
B14: =IF(J13="","",IF(J13<T18,"geforderte PR für Pflegegrad 3 liegt außerhalb der Rahmenvertragsempfehlung, bitte begründen",IF(J13>T19,"geforderte PR für Pflegegrad 3 liegt außerhalb der Rahmenvertragsempfehlung, bitte begründen",""))) | K14: =IF(L14="","","1:") | Q14: bi/Kopfzeile in Zelle 4 angepasst - Bezüge zu Allgemeinen Angaben hergestellt
F15: Pflegegrad 4 | H15: 1 | I15: : | K15: =IF(L15="","","1:") -> 1: | L15: =IF(O15="x",T46,"") -> FALSE | N15: 4 | O15: =IF(OR(Belegung!E29=0,Belegung!E29=""),"x","") -> x
B16: =IF(J15="","",IF(J15<U18,"geforderte PR für Pflegegrad 4 liegt außerhalb der Rahmenvertragsempfehlung, bitte begründen",IF(J15>U19,"geforderte PR für Pflegegrad 4 liegt außerhalb der Rahmenvertragsempfehlung, bitte begründen",""))) | K16: =IF(L16="","","1:")
F17: Pflegegrad 5 | H17: 1 | I17: : | K17: =IF(L17="","","1:") -> 1: | L17: =IF(O17="x",T47,"") -> FALSE | N17: 5 | O17: =IF(OR(Belegung!E30=0,Belegung!E30=""),"x","") -> x | R17: PG 1 | S17: PG 2 | T17: PG 3 | U17: PG 4 | V17: PG 5
B18: =IF(J17="","",IF(J17<V18,"geforderte PR für Pflegegrad 5 liegt außerhalb der Rahmenvertragsempfehlung, bitte begründen",IF(J17>V19,"geforderte PR für Pflegegrad 5 liegt außerhalb der Rahmenvertragsempfehlung, bitte begründen",""))) | Q18: BB min RVT 1 : | R18: 7.6 | S18: 4.13 | T18: 2.66 | U18: 2 | V18: 1.85
B19: PDL/ stellvertretende PDL | J19: =Personalaufwendungen!H12 -> 0 | L19: =Q62 -> 0.75 | O19: =IF(OR(Belegung!E19=0,Belegung!E19=""),"x","") | Q19: BB max RVT 1 : | R19: 8.4 | S19: 4.57 | T19: 2.94 | U19: 2.21 | V19: 2.05
B20: =IF(J19=L19,"",IF(J19<Q62,"Forderung VK PDL/stellv.PDL liegt außerhalb des Rahmenvertrages",IF(J19>Q62,"Forderung VK PDL/stellv. PDL liegt außerhalb des Rahmenvertrages"))) -> Forderung VK PDL/stellv.PDL liegt außerhalb des Rahmenvertrages
B21: =F21*0.2/100 -> 0 | E21: ΣVK von Blatt 3 ohne PDL/stellv. PDL | F21: =Personalaufwendungen!H17-Personalaufwendungen!H12 -> 0 | I21: Σ | J21: =IFERROR((Belegung!E26/J9)+(Belegung!E27/J11)+(Belegung!E28/J13)+(Belegung!E29/J15)+(Belegung!E30/J17),0) -> 0 | Q21: Orientierungswert | R21: 8 | S21: 4.35 | T21: 2.8 | U21: 2.1 | V21: 1.95
F22: =IF(F21=J21,"",IF(AND(F21-B21<=J21,(F21+B21>=J21)),"","Personalrelationen bitte prüfen - es besteht keine Plausibilität")) | S22: =S21/R21-1 -> -0.45625 | T22: =T21/S21-1 -> -0.35632184 | U22: =U21/T21-1 -> -0.25 | V22: =V21/U21-1 -> -0.071428571
B23: Betreuung | H23: 1 | I23: : | K23: 1: | L23: =IF(Personalaufwendungen!H26>0,'Allgemeine Angaben'!$L$44/Personalaufwendungen!H26,"")
B24: =IF(J23="","",IF($J$23<$N$70,"geforderte PR Betreuung liegt außerhalb der Rahmenvertragsempfehlung, bitte begründen",IF($J$23>$O$70,"geforderte PR Betreuung liegt außerhalb der Rahmenvertragsempfehlung, bitte begründen bzw. korrigieren",""))) | Q24: Leistungbetrag vst | R24: 125 | S24: 770 | T24: 1262 | U24: 1775 | V24: 2005
B26: Zusätzliches Betreuungspersonal gem. § 43b SGB XI | H26: 1 | I26: : | J26: 20 | L26: ='Allgemeine Angaben'!L44/J26 -> 0 | S26: 1 | T26: =T24/S24 -> 1.638961 | U26: =U24/S24 -> 2.3051948 | V26: =V24/S24 -> 2.6038961
T27: =T24/S24-1 -> 0.63896104 | U27: =U24/T24-1 -> 0.40649762 | V27: =V24/U24-1 -> 0.12957746
B28: Leitung und Verwaltung | H28: 1 | I28: : | K28: 1: | L28: =IF(Personalaufwendungen!H34>0,'Allgemeine Angaben'!$L$44/Personalaufwendungen!H34,"")
N29: bi/in Zelle B19 Rechtschreibfehler korrigiert bei stellv. PDL | R29: bi/B20 = Formel für Plausiabgleich VK Umfang PDL angepasst, Hinweis erfolgt sofern PDL VK ungleich RVT Umfang
B30: Hauswirtschaft | H30: 1 | I30: : | K30: 1: | L30: =IF(Personalaufwendungen!H39>0,'Allgemeine Angaben'!$L$44/Personalaufwendungen!H39,"") | N30: bi/unter PDL/stellv. PDL neue Zeile eingefügt => in B20 PlausiFeld eingefügt
N31: bi/L19 fehlende Verknüpfung zu PlausiErgebnis in Zelle Q61 hergestellt, DropDown Hinweis eingefügt
B32: Küche | H32: 1 | I32: : | K32: 1: | L32: =IF(Personalaufwendungen!H41>0,'Allgemeine Angaben'!$L$44/Personalaufwendungen!H41,"") | N32: bi/ Formel F20 angepasst: bisher Übernahme VK aus Personalaufwendungen H17 inkl. PDL/ neuer RVT PR Pflege ohne PDL/stellv. PDL => somit PflegeVK - PDL/stellv. PDL
B34: Haustechnik | H34: 1 | I34: : | K34: 1: | L34: =IF(Personalaufwendungen!H43>0,'Allgemeine Angaben'!$L$44/Personalaufwendungen!H43,"") | N34: PG | O34: check/PR | Q34: check = wenn Belegung 0 in der PG, dann ist die PR auch 0 | AA34: Fr. Bischoff Vorschlag 30.03.2017
N35: 1 | O35: =IF(Belegung!E26<>0,Forderung!J9,0) -> 0 | Q35: = wenn Belegung nicht 0 in der PG, dann bilde die geforderte PR ab
B36: Einsatzstellen FSJ / Freiwillige Dienste | G36: Anzahl: | L36: =IF(Personalaufwendungen!H62>0,Personalaufwendungen!H62+Personalaufwendungen!H64,IF(Personalaufwendungen!H64>0,Personalaufwendungen!H62+Personalaufwendungen!H64,"")) | N36: 2 | O36: =IF(Belegung!E27<>0,Forderung!J11,0) -> 0
N37: 3 | O37: =IF(Belegung!E28<>0,Forderung!J13,0) -> 0
N38: 4 | O38: =IF(Belegung!E29<>0,Forderung!J15,0) -> 0 | Q38: Kennzeichen Einrichtungsart: | S38: 1
N39: 5 | O39: =IF(Belegung!E30<>0,Forderung!J17,0) -> 0 | Q39: "1" = vst
L40: =IF('Allgemeine Angaben'!L45>0,"angeschlos-sene Kurz-zeitpflege","")
B41: 2. einrichtungseinheitlicher Eigenanteil, Pflegesätze und Entgelte: | N41: Hochrechnung bei Nullbelegung | Q41: Rechnung mit Äquvalenzen (Rothgang bei vst und KZP, Faktor bei tst) | Y41: a) Suche welche PG als nächstes belegt ist und zeige diesen an
O42: a | P42: b | Q42: c = "1" | T42: d | V42: e | Y42: b) suche zu a (zur ausgewiesenen PG) die entsprechende PR
B43: einrichtungseinheitlicher Eigenanteil | H43: (ohne Ausbildungsvergütung nach § 82a SGB XI) | J43: =IF(ISERROR(Gesamtkalkulation!J50),"",Gesamtkalkulation!J50) | K43: € / Tag | O43: =IF(O35>0,1,IF(O36>0,2,IF(O37>0,3,IF(O38>0,4,IF(O39>0,5))))) -> FALSE | P43: =IF(O43=1,O35,IF(O43=2,O36,IF(O43=3,O37,IF(O43=4,O38,IF(O43=5,O39))))) -> FALSE | Q43: =IF(O43=1,P43,IF(O43=2,P43*R21/S21,IF(O43=3,P43*R21/T21,IF(O43=4,P43/U21*R21,IF(O43=5,P43/V21*R21))))) -> FALSE | T43: =Q43 -> FALSE | V43: PG 1 | Y43: c) rechne anhand a und b die PR für die PG unter d zurück
...

Sheet Gesamtkalkulation
A1: ='Allgemeine Angaben'!A1:N1 -> Aufforderung zum Abschluss einer Pflegesatzvereinbarung gemäß §§ 84, 85 SGB XI | Y1: 14./15.05.2019 | Z1: 43690 | AA1: 43699
A2: Gesamtkalkulation | Y2: 43620 | Z2: 43711
A3: ='Allgemeine Angaben'!A3:N3 | Y3: 43622
B4: ='Allgemeine Angaben'!B4 | N4: ='Allgemeine Angaben'!K4 -> Antrag vom: | P4: ='Allgemeine Angaben'!L4 -> 0
E5: GELBER TEIL | J5: Öffnungstage | L5: Auslastung | N5: Divisor allg | P5: Tage/Monat | Y5: bi/Kopfzeile angepasst in Zeile 4 - Bezüge zu Allgemeinen Angaben hergestellt
C6: Gesamtplätze: | D6: =IF('Allgemeine Angaben'!L44>0,'Allgemeine Angaben'!L44,"") | E6: WIRD AUS- | J6: =IF(Belegung!D8>0,Belegung!D8,"") -> 365 | L6: =IF(Belegung!G6>0,Belegung!G6,"") | N6: =divisor -> 0 | P6: =IFERROR(ROUND(J6/12,2),"") -> 30.42 | Y6: bi/Formeln in den Zellen D17 bis D23 angepasst für Berücksichtigung der steuerfreien Sachbezüge nach § 8 Abs. 2 EStG
E8: GEBLENDET | J8: § 43b: | L8: =IF('Allgemeine Angaben'!D7="vst",100,IF('Allgemeine Angaben'!D7="kzp",100,L6)) | N8: =IFERROR(Belegung!E32*J6*L8/100,"") | Y8: D17 =Personalaufwendungen!I17*Personalaufwendungen!H17*(1+pnk+Personalaufwendungen!I57)*(1+risiko)
Y9: D18 =Personalaufwendungen!I26*Personalaufwendungen!H26*(1+pnk+Personalaufwendungen!I57)*(1+risiko)
D10: Plätze: | E10: =SUM(H10:P10) -> 0 | F10: EEA-Divisor | H10: =Belegung!E26 -> 0 | J10: =Belegung!E27 -> 0 | L10: =Belegung!E28 -> 0 | N10: =Belegung!E29 -> 0 | P10: =Belegung!E30 -> 0 | Y10: D19 =Personalaufwendungen!I29*Personalaufwendungen!H29*(1+pnk+Personalaufwendungen!I57)*(1+risiko)
D11: Divisor: | E11: =SUM(H11:P11) -> 0 | F11: =J11+L11+N11+P11 -> #VALUE! | H11: =IFERROR(H10*$J$6*$L$6/100,"") | J11: =IFERROR(J10*$J$6*$L$6/100,"") | L11: =IFERROR(L10*$J$6*$L$6/100,"") | N11: =IFERROR(N10*$J$6*$L$6/100,"") | P11: =IFERROR(P10*$J$6*$L$6/100,"") | Y11: D20 =Personalaufwendungen!I34*Personalaufwendungen!H34*(1+pnk+Personalaufwendungen!I57)*(1+risiko)
D12: Leistungsbetrag § 43 SGB XI (nur vollstationär): | J12: 770 | L12: 1262 | N12: 1775 | P12: 2005 | Y12: D21 =Personalaufwendungen!I39*Personalaufwendungen!H39*(1+pnk+Personalaufwendungen!I57)*(1+risiko)
Y13: D22 =Personalaufwendungen!I41*Personalaufwendungen!H41*(1+pnk+Personalaufwendungen!I57)*(1+risiko)
G14: Aufwendungen für Leistungen im Pflegegrad 1 | H14: Aufwendungen für Leistungen im Pflegegrad 1 | I14: Aufwendungen für Leistungen im Pflegegrad 2 | J14: Aufwendungen für Leistungen im Pflegegrad 2 | K14: Aufwendungen für Leistungen im Pflegegrad 3 | L14: Aufwendungen für Leistungen im Pflegegrad 3 | M14: Aufwendungen für Leistungen im Pflegegrad 4 | N14: Aufwendungen für Leistungen im Pflegegrad 4 | O14: Aufwendungen für Leistungen im Pflegegrad 5 | P14: Aufwendungen für Leistungen im Pflegegrad 5 | Q14: Aufwendungen für die Unterkunft | R14: Aufwendungen für die Unterkunft | S14: Aufwendungen für die Verpflegung | T14: Aufwendungen für die Verpflegung | U14: Aufwendungen für § 43b | V14: Aufwendungen für § 43b | Y14: D23 =Personalaufwendungen!I43*Personalaufwendungen!H43*(1+pnk+Personalaufwendungen!I57)*(1+risiko)
D15: Gesamtaufwendungen | E15: Plausi Ges. | F15: ANT am PS | G15: Gesamt in € | H15: Tag / € | I15: Gesamt in € | J15: Tag / € | K15: Gesamt in € | L15: Tag / € | M15: Gesamt in € | N15: Tag / € | O15: Gesamt in € | P15: Tag / € | Q15: Gesamt in € | R15: Tag / € | S15: Gesamt in € | T15: Tag / € | U15: Gesamt in € | V15: Tag / €
B16: 1. | C16: Personalaufwendungen (ohne 1.3.) | D16: =SUM(D17:D18,D20:D24) -> #VALUE! | E16: =G16+I16+K16+M16+O16+Q16 -> #VALUE! | G16: =SUM(G17:G24) -> #VALUE! | H16: =SUM(H17:H24) -> #VALUE! | I16: =SUM(I17:I24) -> #VALUE! | J16: =SUM(J17:J24) -> #VALUE! | K16: =SUM(K17:K24) -> #VALUE! | L16: =SUM(L17:L24) -> #VALUE! | M16: =SUM(M17:M24) -> #VALUE! | N16: =SUM(N17:N24) -> #VALUE! | ... P16: =SUM(P17:P24) -> #VALUE! | Q16: =SUM(Q20:Q24) -> #VALUE! | R16: =SUM(R20:R24) -> #VALUE!
B17: 1.1. | C17: =Personalaufwendungen!C10 -> Pflege inklusive QM, PDL/ stellvertretende PDL | D17: =Personalaufwendungen!I17*Personalaufwendungen!H17*(1+pnk+Personalaufwendungen!I57)*(1+risiko) -> #VALUE! | E17: =G17+I17+K17+M17+O17 -> #VALUE! | F17: 1 | G17: =$D17*$F17*KAT!E32 -> #VALUE! | H17: =G17/$H$11 -> #VALUE! | I17: =$D17*$F17*KAT!E33 -> #VALUE! | J17: =I17/$J$11 -> #VALUE! | K17: =$D17*$F17*KAT!E34 -> #VALUE! | L17: =K17/$L$11 -> #VALUE! | M17: =$D17*$F17*KAT!E35 -> #VALUE! | N17: =M17/$N$11 -> #VALUE! | O17: =$D17*$F17*KAT!E36 -> #VALUE! | P17: =O17/$P$11 -> #VALUE!
B18: 1.2. | C18: =Personalaufwendungen!C21 -> Betreuung | D18: =Personalaufwendungen!I26*Personalaufwendungen!H26*(1+pnk+Personalaufwendungen!I57)*(1+risiko) -> #VALUE! | E18: =G18+I18+K18+M18+O18+Q18 -> #VALUE! | F18: 1 | G18: =D18*F18/$N$6*$H$11 -> #VALUE! | H18: =G18/$H$11 -> #VALUE! | I18: =D18*F18/$N$6*$J$11 -> #VALUE! | J18: =I18/$J$11 -> #VALUE! | K18: =D18*F18/$N$6*$L$11 -> #VALUE! | L18: =K18/$L$11 -> #VALUE! | M18: =D18*F18/$N$6*$N$11 -> #VALUE! | N18: =M18/$N$11 -> #VALUE! | O18: =D18*F18/$N$6*$P$11 -> #VALUE! | P18: =O18/$P$11 -> #VALUE!
B19: 1.3. | C19: =Personalaufwendungen!C28 -> Zusätzliche Betreuung und Aktivierung | D19: =Personalaufwendungen!I29*Personalaufwendungen!H29*(1+pnk+Personalaufwendungen!I57)*(1+risiko) -> #VALUE! | U19: =D19 -> #VALUE! | V19: =U19/$N$8 -> #VALUE!
B20: 1.4. | C20: =Personalaufwendungen!C31 -> Leitung / Verwaltung | D20: =Personalaufwendungen!I34*Personalaufwendungen!H34*(1+pnk+Personalaufwendungen!I57)*(1+risiko) -> #VALUE! | E20: =G20+I20+K20+M20+O20+Q20 -> #VALUE! | F20: 0.5 | G20: =D20*F20/$N$6*$H$11 -> #VALUE! | H20: =G20/$H$11 -> #VALUE! | I20: =D20*F20/$N$6*$J$11 -> #VALUE! | J20: =I20/$J$11 -> #VALUE! | K20: =D20*F20/$N$6*$L$11 -> #VALUE! | L20: =K20/$L$11 -> #VALUE! | M20: =D20*F20/$N$6*$N$11 -> #VALUE! | N20: =M20/$N$11 -> #VALUE! | O20: =D20*F20/$N$6*$P$11 -> #VALUE! | P20: =O20/$P$11 -> #VALUE! | Q20: =D20*F20 -> #VALUE! | R20: =Q20/divisor -> #VALUE!
B21: 1.5. | C21: =Personalaufwendungen!C36 -> Hauswirtschaft | D21: =Personalaufwendungen!I39*Personalaufwendungen!H39*(1+pnk+Personalaufwendungen!I57)*(1+risiko) -> #VALUE! | E21: =G21+I21+K21+M21+O21+Q21 -> #VALUE! | F21: 0.5 | G21: =D21*F21/$N$6*$H$11 -> #VALUE! | H21: =G21/$H$11 -> #VALUE! | I21: =D21*F21/$N$6*$J$11 -> #VALUE! | J21: =I21/$J$11 -> #VALUE! | K21: =D21*F21/$N$6*$L$11 -> #VALUE! | L21: =K21/$L$11 -> #VALUE! | M21: =D21*F21/$N$6*$N$11 -> #VALUE! | N21: =M21/$N$11 -> #VALUE! | O21: =D21*F21/$N$6*$P$11 -> #VALUE! | P21: =O21/$P$11 -> #VALUE! | Q21: =D21*F21 -> #VALUE! | R21: =Q21/divisor -> #VALUE!
B22: 1.6. | C22: =Personalaufwendungen!C41 -> Küche | D22: =Personalaufwendungen!I41*Personalaufwendungen!H41*(1+pnk+Personalaufwendungen!I57)*(1+risiko) -> #VALUE! | E22: =G22+I22+K22+M22+O22+Q22 -> #VALUE! | F22: 0.5 | G22: =D22*F22/$N$6*$H$11 -> #VALUE! | H22: =G22/$H$11 -> #VALUE! | I22: =D22*F22/$N$6*$J$11 -> #VALUE! | J22: =I22/$J$11 -> #VALUE! | K22: =D22*F22/$N$6*$L$11 -> #VALUE! | L22: =K22/$L$11 -> #VALUE! | M22: =D22*F22/$N$6*$N$11 -> #VALUE! | N22: =M22/$N$11 -> #VALUE! | O22: =D22*F22/$N$6*$P$11 -> #VALUE! | P22: =O22/$P$11 -> #VALUE! | Q22: =D22*F22 -> #VALUE! | R22: =Q22/divisor -> #VALUE! | Y22: bi/Vorschlag von Dr. Morgenstern soll jetzt die Endlösung sein (KSV + AOK Vorschlag Rechnung mit PR)
B23: 1.7. | C23: =Personalaufwendungen!C43 -> Haustechnik | D23: =Personalaufwendungen!I43*Personalaufwendungen!H43*(1+pnk+Personalaufwendungen!I57)*(1+risiko) -> #VALUE! | E23: =G23+I23+K23+M23+O23+Q23 -> #VALUE! | F23: 0.5 | G23: =D23*F23/$N$6*$H$11 -> #VALUE! | H23: =G23/$H$11 -> #VALUE! | I23: =D23*F23/$N$6*$J$11 -> #VALUE! | J23: =I23/$J$11 -> #VALUE! | K23: =D23*F23/$N$6*$L$11 -> #VALUE! | L23: =K23/$L$11 -> #VALUE! | M23: =D23*F23/$N$6*$N$11 -> #VALUE! | N23: =M23/$N$11 -> #VALUE! | O23: =D23*F23/$N$6*$P$11 -> #VALUE! | P23: =O23/$P$11 -> #VALUE! | Q23: =D23*F23 -> #VALUE! | R23: =Q23/divisor -> #VALUE! | Y23: bi/bisher wurden die Personalkosten Pflege gesamt auf die einzelnen PG mittels PR und Belegung dr einzelnen PG verteilt, mit dem neuen RVT wird der VK-Anteil der PDL/stellv. aus den PR der PG herausgelöst und muss deshalb zusätzlich mit eingerechnet werden => für PDL/stellv. wird mittels einer internen PR der VK-Anteil mit berücksichtigt
B24: 1.8. | C24: Freiwillige Dienste, FSJ | D24: =Personalaufwendungen!I62*Personalaufwendungen!H62+Personalaufwendungen!I64*Personalaufwendungen!H64 -> 0 | E24: =G24+I24+K24+M24+O24+Q24 -> #DIV/0! | F24: 0.5 | G24: =D24*F24/$N$6*$H$11 -> #DIV/0! | H24: =G24/$H$11 -> #DIV/0! | I24: =D24*F24/$N$6*$J$11 -> #DIV/0! | J24: =I24/$J$11 -> #DIV/0! | K24: =D24*F24/$N$6*$L$11 -> #DIV/0! | L24: =K24/$L$11 -> #DIV/0! | M24: =D24*F24/$N$6*$N$11 -> #DIV/0! | N24: =M24/$N$11 -> #DIV/0! | O24: =D24*F24/$N$6*$P$11 -> #DIV/0! | P24: =O24/$P$11 -> #DIV/0! | Q24: =D24*F24 -> 0 | R24: =Q24/divisor -> #DIV/0! | Y24: in den Zelle G17/I17;K17;M17;O17 wurden wie folgt ergänzt (runden notw., da ansonsten zu hohe Abweichungen):
Y25: =(...) + ($D17*$F17/Personalaufwendungen!$H$17*Belegung! je PG/runden(Allgemeine AngabenL44/PersonalaufwendungenH12;2))
B26: 2. | C26: Sachaufwendungen | D26: =SUM(D27:D36) -> 0 | E26: =G26+I26+K26+M26+O26+Q26+S26 -> #DIV/0! | G26: =SUM(G28:G36) -> #DIV/0! | H26: =SUM(H28:H36) -> #DIV/0! | I26: =SUM(I28:I36) -> #DIV/0! | J26: =SUM(J28:J36) -> #DIV/0! | K26: =SUM(K28:K36) -> #DIV/0! | L26: =SUM(L28:L36) -> #DIV/0! | M26: =SUM(M28:M36) -> #DIV/0! | N26: =SUM(N28:N36) -> #DIV/0! | ... P26: =SUM(P28:P36) -> #DIV/0! | Q26: =SUM(Q29:Q36) -> 0 | R26: =SUM(R29:R36) -> #DIV/0! | S26: =SUM(S27:S36) -> 0 | T26: =SUM(T27:T36) -> #DIV/0! | Y26: bi/ Anpassung der Berechnung (Vereinfachung) vom 13.08.2019 entspr. Vorschlag Hr. Pätzold vom 22.08.2019
B27: 2.1 | C27: =Sachaufwendungen!C33 -> Lebensmittel | D27: =Sachaufwendungen!L33 -> 0 | S27: =D27 -> 0 | T27: =S27/divisor -> #DIV/0! | Y27: bi/Vorschlag von Dr. Morgenstern soll jetzt die Endlösung sein (KSV + AOK Vorschlag Rechnung mit PR)
B28: 2.2 | C28: =Sachaufwendungen!C34 -> Pflegerischer Bedarf | D28: =Sachaufwendungen!L34 -> 0 | E28: =G28+I28+K28+M28+O28+Q28+S28 -> #DIV/0! | F28: 1 | G28: =D28*F28/divisor*$H$11 -> #DIV/0! | H28: =G28/$H$11 -> #DIV/0! | I28: =D28*F28/divisor*$J$11 -> #DIV/0! | J28: =I28/$J$11 -> #DIV/0! | K28: =D28*F28/divisor*$L$11 -> #DIV/0! | L28: =K28/$L$11 -> #DIV/0! | M28: =D28*F28/divisor*$N$11 -> #DIV/0! | N28: =M28/$N$11 -> #DIV/0! | O28: =D28*F28/divisor*$P$11 -> #DIV/0! | P28: =O28/$P$11 -> #DIV/0! | Y28: =Gesamtpersonalkosten Pflege (siehe Zelle D17) werden nach einem prozentualen Verteiler auf die einzelnen PG verteilt - siehe Hilfstabelle in Tab KAT A31 bis F39
B29: 2.3 | C29: =Sachaufwendungen!C35 -> Wasser, Energie, Brennstoffe | D29: =Sachaufwendungen!L35 -> 0 | E29: =G29+I29+K29+M29+O29+Q29+S29 -> #DIV/0! | F29: 0.5 | G29: =D29*F29/divisor*$H$11 -> #DIV/0! | H29: =G29/$H$11 -> #DIV/0! | I29: =D29*F29/divisor*$J$11 -> #DIV/0! | J29: =I29/$J$11 -> #DIV/0! | K29: =D29*F29/divisor*$L$11 -> #DIV/0! | L29: =K29/$L$11 -> #DIV/0! | M29: =D29*F29/divisor*$N$11 -> #DIV/0! | N29: =M29/$N$11 -> #DIV/0! | O29: =D29*F29/divisor*$P$11 -> #DIV/0! | P29: =O29/$P$11 -> #DIV/0! | Q29: =D29*F29 -> 0 | R29: =Q29/divisor -> #DIV/0! | Y29: (keine direkte Berechnung mit PR mehr)
B30: 2.4 | C30: =Sachaufwendungen!C36 -> Verwaltungsbedarf | D30: =Sachaufwendungen!L36 -> 0 | E30: =G30+I30+K30+M30+O30+Q30+S30 -> #DIV/0! | F30: 0.5 | G30: =D30*F30/divisor*$H$11 -> #DIV/0! | H30: =G30/$H$11 -> #DIV/0! | I30: =D30*F30/divisor*$J$11 -> #DIV/0! | J30: =I30/$J$11 -> #DIV/0! | K30: =D30*F30/divisor*$L$11 -> #DIV/0! | L30: =K30/$L$11 -> #DIV/0! | M30: =D30*F30/divisor*$N$11 -> #DIV/0! | N30: =M30/$N$11 -> #DIV/0! | O30: =D30*F30/divisor*$P$11 -> #DIV/0! | P30: =O30/$P$11 -> #DIV/0! | Q30: =D30*F30 -> 0 | R30: =Q30/divisor -> #DIV/0!
B31: 2.5 | C31: =Sachaufwendungen!C37 -> Zentrale Verwaltungsdienste | D31: =Sachaufwendungen!L37 -> 0 | E31: =G31+I31+K31+M31+O31+Q31+S31 -> #DIV/0! | F31: 0.5 | G31: =D31*F31/divisor*$H$11 -> #DIV/0! | H31: =G31/$H$11 -> #DIV/0! | I31: =D31*F31/divisor*$J$11 -> #DIV/0! | J31: =I31/$J$11 -> #DIV/0! | K31: =D31*F31/divisor*$L$11 -> #DIV/0! | L31: =K31/$L$11 -> #DIV/0! | M31: =D31*F31/divisor*$N$11 -> #DIV/0! | N31: =M31/$N$11 -> #DIV/0! | O31: =D31*F31/divisor*$P$11 -> #DIV/0! | P31: =O31/$P$11 -> #DIV/0! | Q31: =D31*F31 -> 0 | R31: =Q31/divisor -> #DIV/0!
B32: 2.6 | C32: =Sachaufwendungen!C38 -> Betreuungsaufwand | D32: =Sachaufwendungen!L38 -> 0 | E32: =G32+I32+K32+M32+O32+Q32+S32 -> #DIV/0! | F32: 1 | G32: =D32*F32/divisor*$H$11 -> #DIV/0! | H32: =G32/$H$11 -> #DIV/0! | I32: =D32*F32/divisor*$J$11 -> #DIV/0! | J32: =I32/$J$11 -> #DIV/0! | K32: =D32*F32/divisor*$L$11 -> #DIV/0! | L32: =K32/$L$11 -> #DIV/0! | M32: =D32*F32/divisor*$N$11 -> #DIV/0! | N32: =M32/$N$11 -> #DIV/0! | O32: =D32*F32/divisor*$P$11 -> #DIV/0! | P32: =O32/$P$11 -> #DIV/0!
B33: 2.7 | C33: =Sachaufwendungen!C39 -> Wirtschaftsbedarf | D33: =Sachaufwendungen!L39 -> 0 | E33: =G33+I33+K33+M33+O33+Q33+S33 -> #DIV/0! | F33: 0.5 | G33: =D33*F33/divisor*$H$11 -> #DIV/0! | H33: =G33/$H$11 -> #DIV/0! | I33: =D33*F33/divisor*$J$11 -> #DIV/0! | J33: =I33/$J$11 -> #DIV/0! | K33: =D33*F33/divisor*$L$11 -> #DIV/0! | L33: =K33/$L$11 -> #DIV/0! | M33: =D33*F33/divisor*$N$11 -> #DIV/0! | N33: =M33/$N$11 -> #DIV/0! | O33: =D33*F33/divisor*$P$11 -> #DIV/0! | P33: =O33/$P$11 -> #DIV/0! | Q33: =D33*F33 -> 0 | R33: =Q33/divisor -> #DIV/0!
B34: 2.8 | C34: =Sachaufwendungen!C40 -> Steuern/Abgaben/Versicherungen | D34: =Sachaufwendungen!L40 -> 0 | E34: =G34+I34+K34+M34+O34+Q34+S34 -> #DIV/0! | F34: 0.5 | G34: =D34*F34/divisor*$H$11 -> #DIV/0! | H34: =G34/$H$11 -> #DIV/0! | I34: =D34*F34/divisor*$J$11 -> #DIV/0! | J34: =I34/$J$11 -> #DIV/0! | K34: =D34*F34/divisor*$L$11 -> #DIV/0! | L34: =K34/$L$11 -> #DIV/0! | M34: =D34*F34/divisor*$N$11 -> #DIV/0! | N34: =M34/$N$11 -> #DIV/0! | O34: =D34*F34/divisor*$P$11 -> #DIV/0! | P34: =O34/$P$11 -> #DIV/0! | Q34: =D34*F34 -> 0 | R34: =Q34/divisor -> #DIV/0!
B35: 2.9 | C35: =Sachaufwendungen!C41 -> Wartung (keine Instandhaltung) | D35: =Sachaufwendungen!L41 -> 0 | E35: =G35+I35+K35+M35+O35+Q35+S35 -> #DIV/0! | F35: 0.5 | G35: =D35*F35/divisor*$H$11 -> #DIV/0! | H35: =G35/$H$11 -> #DIV/0! | I35: =D35*F35/divisor*$J$11 -> #DIV/0! | J35: =I35/$J$11 -> #DIV/0! | K35: =D35*F35/divisor*$L$11 -> #DIV/0! | L35: =K35/$L$11 -> #DIV/0! | M35: =D35*F35/divisor*$N$11 -> #DIV/0! | N35: =M35/$N$11 -> #DIV/0! | O35: =D35*F35/divisor*$P$11 -> #DIV/0! | P35: =O35/$P$11 -> #DIV/0! | Q35: =D35*F35 -> 0 | R35: =Q35/divisor -> #DIV/0!
B36: 2.10 | C36: =Sachaufwendungen!C42 -> sonstige Aufwendungen | D36: =Sachaufwendungen!L42 -> 0 | E36: =G36+I36+K36+M36+O36+Q36+S36 -> #DIV/0! | F36: 0.5 | G36: =D36*F36/divisor*$H$11 -> #DIV/0! | H36: =G36/$H$11 -> #DIV/0! | I36: =D36*F36/divisor*$J$11 -> #DIV/0! | J36: =I36/$J$11 -> #DIV/0! | K36: =D36*F36/divisor*$L$11 -> #DIV/0! | L36: =K36/$L$11 -> #DIV/0! | M36: =D36*F36/divisor*$N$11 -> #DIV/0! | N36: =M36/$N$11 -> #DIV/0! | O36: =D36*F36/divisor*$P$11 -> #DIV/0! | P36: =O36/$P$11 -> #DIV/0! | Q36: =D36*F36 -> 0 | R36: =Q36/divisor -> #DIV/0!
B38: 3. | C38: Fremdleistungen / Trägerleistungen | D38: =SUM(D39:D46) -> 0 | E38: =SUM(E39:E46) -> #DIV/0! | G38: =SUM(G39:G46) -> #DIV/0! | H38: =SUM(H39:H46) -> #DIV/0! | I38: =SUM(I39:I46) -> #DIV/0! | J38: =SUM(J39:J46) -> #DIV/0! | K38: =SUM(K39:K46) -> #DIV/0! | L38: =SUM(L39:L46) -> #DIV/0! | M38: =SUM(M39:M46) -> #DIV/0! | N38: =SUM(N39:N46) -> #DIV/0! | ... R38: =SUM(R39:R46) -> #DIV/0!
B39: =Sachaufwendungen!B52 -> 3.1 | C39: =Sachaufwendungen!C52 -> Küche (ohne Pkt. 2.1) | D39: =Sachaufwendungen!L52 -> 0 | E39: =G39+I39+K39+M39+O39+Q39 -> #DIV/0! | F39: 0.5 | G39: =D39*F39/divisor*$H$11 -> #DIV/0! | H39: =G39/$H$11 -> #DIV/0! | I39: =D39*F39/divisor*$J$11 -> #DIV/0! | J39: =I39/$J$11 -> #DIV/0! | K39: =D39*F39/divisor*$L$11 -> #DIV/0! | L39: =K39/$L$11 -> #DIV/0! | M39: =D39*F39/divisor*$N$11 -> #DIV/0! | N39: =M39/$N$11 -> #DIV/0! | O39: =D39*F39/divisor*$P$11 -> #DIV/0! | P39: =O39/$P$11 -> #DIV/0! | Q39: =D39*F39 -> 0 | R39: =Q39/divisor -> #DIV/0!
B40: =Sachaufwendungen!B53 -> 3.2 | C40: =Sachaufwendungen!C53 -> Wäscherei | D40: =Sachaufwendungen!L53 -> 0 | E40: =G40+I40+K40+M40+O40+Q40 -> #DIV/0! | F40: 0.5 | G40: =D40*F40/divisor*$H$11 -> #DIV/0! | H40: =G40/$H$11 -> #DIV/0! | I40: =D40*F40/divisor*$J$11 -> #DIV/0! | J40: =I40/$J$11 -> #DIV/0! | K40: =D40*F40/divisor*$L$11 -> #DIV/0! | L40: =K40/$L$11 -> #DIV/0! | M40: =D40*F40/divisor*$N$11 -> #DIV/0! | N40: =M40/$N$11 -> #DIV/0! | O40: =D40*F40/divisor*$P$11 -> #DIV/0! | P40: =O40/$P$11 -> #DIV/0! | Q40: =D40*F40 -> 0 | R40: =Q40/divisor -> #DIV/0!
B41: =Sachaufwendungen!B54 -> 3.3 | C41: =Sachaufwendungen!C54 -> Wäschekennzeichnung | D41: =Sachaufwendungen!L54 -> 0 | E41: =G41+I41+K41+M41+O41+Q41 -> #DIV/0! | F41: 0.5 | G41: =D41*F41/divisor*$H$11 -> #DIV/0! | H41: =G41/$H$11 -> #DIV/0! | I41: =D41*F41/divisor*$J$11 -> #DIV/0! | J41: =I41/$J$11 -> #DIV/0! | K41: =D41*F41/divisor*$L$11 -> #DIV/0! | L41: =K41/$L$11 -> #DIV/0! | M41: =D41*F41/divisor*$N$11 -> #DIV/0! | N41: =M41/$N$11 -> #DIV/0! | O41: =D41*F41/divisor*$P$11 -> #DIV/0! | P41: =O41/$P$11 -> #DIV/0! | Q41: =D41*F41 -> 0 | R41: =Q41/divisor -> #DIV/0!
B42: =Sachaufwendungen!B55 -> 3.4 | C42: =Sachaufwendungen!C55 -> Reinigung | D42: =Sachaufwendungen!L55 -> 0 | E42: =G42+I42+K42+M42+O42+Q42 -> #DIV/0! | F42: 0.5 | G42: =D42*F42/divisor*$H$11 -> #DIV/0! | H42: =G42/$H$11 -> #DIV/0! | I42: =D42*F42/divisor*$J$11 -> #DIV/0! | J42: =I42/$J$11 -> #DIV/0! | K42: =D42*F42/divisor*$L$11 -> #DIV/0! | L42: =K42/$L$11 -> #DIV/0! | M42: =D42*F42/divisor*$N$11 -> #DIV/0! | N42: =M42/$N$11 -> #DIV/0! | O42: =D42*F42/divisor*$P$11 -> #DIV/0! | P42: =O42/$P$11 -> #DIV/0! | Q42: =D42*F42 -> 0 | R42: =Q42/divisor -> #DIV/0!
...

Sheet Bewohnervertretung
A1: Stellungnahme der Bewohnervertretung gem. § 85 (3) SGB XI | Q1: 43620
A2: (gilt nur für vollstationäre Pflegeeinrichtungen)
A3: ='Allgemeine Angaben'!A3:N3
B4: ='Allgemeine Angaben'!B4 | L4: ='Allgemeine Angaben'!K4 -> Antrag vom: | M4: ='Allgemeine Angaben'!L4 -> 0
Q5: bi/Kopfzeile angepasst in Zeile 4 - Bezüge zu Allgemeinen Angaben hergestellt
B6: Bewohnervertretung | L6: Bewohnerfürsprecher *
B8: * Im Sinne der besseren Lesbarkeit wurde stellvertretend für beide Geschlechtsformen durchgehend nur die männliche Form verwendet.
B10: a) | C10: Schriftliche Stellungnahme liegt vor
F12: Ja
F13: weitere Angaben unter c) oder als Anlage erforderlich
F15: Nein
F16: weitere Angaben unter b) erforderlich
B18: b) | C18: Begründung für Nichtvorlage der schriftlichen Stellungnahme
F20: Gelegenheit zur Stellungnahme wurde eingeräumt,
F21: Bewohnervertretung oder Bewohnerfürsprecher haben diese nicht wahrgenommen
F24: Bewohnervertretung oder Bewohnerfürsprecher nicht vorhanden,
F25: (schriftliche Mitteilung des Trägers der Einrichtung an die zuständige Behörde beifügen)
B29: c) | C29: Einbeziehung der Bewohnervertretung / des Bewohnerfürsprechers:
B31: Der vorliegende Antrag auf Abschluss einer neuen Pflegesatzvereinbarung, die zu einer Erhöhung der
B32: Entgelte für Pflege, Unterkunft, Verpflegung und des einrichtungseinheitlichen Eigenanteils in vollstationären
B33: Einrichtungen nach § 43 führen kann, wurde uns vom Einrichtungsträger vorgelegt und erläutert. Die dem
B34: Antrag zugrunde liegenden Einzelpositionen, der Umlagemaßstab sowie die Antragsbegründung wurden
B35: ausführlich dargestellt und auf die Möglichkeit an der Pflegesatzverhandlung teilzunehmen hingewiesen.
B37: Stellungnahme der Bewohnervertretung / des Bewohnerfürsprechers:
B63: Ort, Datum | K63: Unterschrift des Vorsitzenden der Bewohnervertretung
K64: oder des Bewohnerfürsprechers

Sheet Allgemeine Hinweise

Sheet Hinweise Sachaufwendungen
A1: Hinweise zu den Sachaufwendungen, Fremdleistungen und Leistungen des Trägers für die Pflegeeinrichtung | D1: 43678
D2: dtr 06.09.2019: Aufmerksamkeiten des Arbeitgebers unter Verwaltungsbedarf
A3: Anmerkung: Sofern als Art der Einrichtung "Wachkoma" gewählt wurde, ist die "Empfehlung zur Versorgung von Menschen im Wachkoma (Phase F) in vollstationären Einrichtungen nach dem SGB XI im Freistaat Sachsen" in der jeweils gültigen Fassung zu berücksichtigen. | D3: bi/ersatzloser Austausch der bisherigen Hinweise - Hinweise von vom 31.07.2019 eingefügt
A5: Definition: | B5: Fremdleistungen sind Leistungen durch Dritte.
B6: Leistungen des Trägers sind Leistungen, die nicht durch Personal der Einrichtung, sondern beim bzw. durch den Träger erbracht werden.
A8: Erhebliche Steigerungen zu den Aufwendungen des letzten abgeschlossenen Kalenderjahres sollen in den Erläuterungen zum Antrag als Anlage dargestellt und begründet werden.
A10: Sachkostenposition | B10: Inhalt (Aufzählungen sind nicht abschließend) | C10: Bemerkungen
A11: Lebensmittel | B11: - Lebensmittel | C11: - keine Sondennahrung
B12: - Getränke | C12: - keine Lebensmittel für Externe (Betreutes Wohnen, Kindergarten o.Ä.)
B13: - hochkalorische Lebensmittel | C13: - bei Fremdbezug der Verpflegung nur Lebensmittel, im Übrigen siehe Fremdleistung Küche
B14: - diätische Lebensmittel
B15: - Lebensmittelaufwand für fremdbezogene Verpflegung
A16: pflegerischer Bedarf | B16: - zum Verbrauch bestimmte Pflegehilfsmittel (z.B. Desinfektionsmittel, saugende Bettschutzeinlagen zum Einmalgebrauch, Schutzbekleidung wie Fingerlinge, Einmalhandschuhe, Mundschutz und Schutzschürzen) | C16: - kein Inkontinenzmaterial nach SGB V
B17: - soweit dem Pflegebedürftigen eine Beschaffung nicht möglich ist, Aufwand für einmalige Ausstattung mit geeigneten Standardprodukten für die Körperhygiene und Körperpflege (Duschgel, Zahnbürste, Zahnpasta) | C17: - keine sonstigen Hilfsmittel nach SGB V
B18: - Pflegedokumentation (auch Software) einschließlich Wartung und Pflege der Software (z.B. Updates, Hotlines) | C18: - aktivierungsfähige Pflegehilfsmittel (z.B. Antidekubitussysteme -sofern keine SGB V-Leistung-, Kopfwaschanlagen, Bettpfannen) werden über Investitionskosten finanziert
B19: - Fachliteratur "Pflege" | C19: - Anschaffung der Hardware der Pflegedokumentation über Investkosten
B20: - Erste-Hilfe-Ausstattung | C20: - kein Aufwand der Dauerversorgung für die übliche Körper- und Gesundheitspflege (z.B. Friseur, Monatshygiene, persönliche Toilettenartikel)
A21: Wasser / Energie / Brennstoffe | B21: - Wasserver- und Entsorgung (Kosten des Verbrauchs von Wasser und Kosten/Gebühren für die Entwässerung; keine Beiträge) | C21: - bei Mietverträgen: Betriebskosten
B22: - Energie (Elektrizität) | C22: - soweit Fremdleistungen in der Einrichtung erbracht werden, ist zur Zuordnung der Sachkostenanteile Stellung zu nehmen
B23: - Brennstoffe (Gas, Heizöl, Fernwärme, Kohle) | C23: - soweit durch die Einrichtung Leistungen für Dritte (z.B. Betreutes Wohnen, Kindergarten, Cafeteria) erbracht werden, sind die entsprechenden Kostenanteile abzuziehen
B24: - Kraftstoffe für Versorgungsfahrten | C24: - soweit mehrere Versorgungsangebote unter einem Dach vorgehalten werden, sind die Kosten entsprechend zuzuordnen
C25: - Kraftstoffe nicht für Fahrkosten der Tagespflege | D25: bi/ Zeile für FL Wäschekennzeichnung eingefügt + Bemerkung
A26: Verwaltungsbedarf | B26: - Büromaterial | C26: - hier nur den Verwaltungsbedarf der Einrichtung angeben, nicht aber der Zentralen Verwaltung
B27: - Bankgebühren (keine Zinsen)
B28: - Telefonkosten
B29: - Porto
B30: - Öffentlichkeitsarbeit
B31: - Personalbeschaffungskosten
B32: - Heimzeitung
B33: - Fachliteratur (nicht Pflege)
B34: - Reisekosten im Rahmen von Verwaltungsangelegenheiten
B35: - Aufmerksamkeiten des Arbeitgebers
A36: Zentrale Verwaltung | B36: - Rechts- und Steuerberatungskosten* | C36: siehe Fremdleistung Verwaltung
B37: - Geschäftsführung*
B38: - Zentraler Einkauf* | C38: * Der betriebsinterne Umlagenschlüssel auf die Einrichtung ist darzustellen!
B39: - Zentrale (Finanz-)Buchhaltung*
B40: - Zentrale Personalverwaltung und Gehaltsabrechnung*
B41: - Controlling*
B42: - Datenschutzbeauftragter*
B43: - Facilitymanagement*
...

Sheet Adressverzeichnis
A1: Adressverzeichnis der Parteien der Pflegesatzvereinbarung gem. § 85 Abs. 2 SGB XI sowie von Vergütungen nach § 75 SGB XII | J1: Stand 08.05.2018
J2: Stand 7.6.18
A5: AOK PLUS - Die Gesundheitskasse für Sachsen und Thüringen | J5: GB Pflege/Häusliche Krankenpflege
